BEGIN:VCALENDAR
PRODID:NingEventWidget-v1
VERSION:2.0
METHOD:PUBLISH
BEGIN:VTIMEZONE
TZID:Europe/London
X-LIC-LOCATION:Europe/London
BEGIN:DAYLIGHT
TZOFFSETFROM:+0000
TZOFFSETTO:+0100
TZNAME:BST
DTSTART:19700329T010000
RRULE:FREQ=YEARLY;BYMONTH=3;BYDAY=-1SU
END:DAYLIGHT
BEGIN:STANDARD
TZOFFSETFROM:+0100
TZOFFSETTO:+0000
TZNAME:GMT
DTSTART:19701025T020000
RRULE:FREQ=YEARLY;BYMONTH=10;BYDAY=-1SU
END:STANDARD
END:VTIMEZONE
BEGIN:VEVENT
UID:4626108:Event:87848
DTSTAMP:20260424T022102Z
SUMMARY:Fabulous Women Late Breakfast, Reigate
DESCRIPTION:Fabulous Women Late Breakfast at Hartsfield Manor\n\nHi, I
 'm Sharon, the group leader for the Reigate Fabulous Women group. I lo
 ok forward to welcoming you!\nIf you have been wondering what benefits
  you will receive from being part of this fabulous organisation, let m
 e share with you just a few reasons why coming to a Fabulous Women Net
 winning meeting will be the best business decision you ever made:\n\nM
 ake new friends\nFind customers, suppliers and collaborators\nBe inspi
 red\nLearn new skills\n\n Our Agenda is the best mix between formal an
 d informal networking - perfect for the new, as well as the more exper
 ienced networker  We have Inspiring speakers; a 'Hot Seat' or Mini-Coa
 ching session; and 1-2-1's with a 'twist' where we all work out ways i
 n which we can potentially collaborate or support each other, even if 
 it's simply by following each other on Twitter etc.Â \nOur speaker thi
 s month is the fabulousÂ Glenda Shawley who will be doing a business t
 alk \"Mapping your customer's journey\".\nYou have the chance to make 
 a one-minute business pitch about who you are, what you do and who you
  do it for and how we can help you. (Do not worry about this if you ar
 e a little nervous, you can type it out and read it if you wish! We do
  not judge, we just want to help you)  Women do business with men too,
  and Fabulous Women welcomes Marvellous Men who are happy to network i
 n our style. This means collaboration not competition, and support not
  sell and we know that you are interested in both personal and busines
 s development  You don't need to be a member - you can attend up to th
 ree Fabulous Women Netwinningmeetings as a guest\n With all these bene
 fits to being a part of the Fabulous Women experience, how can you res
 ist?! To attend, simply clicking on the booking link below to go to ou
 r website and confirm your attendance, so the venue can cater for you,
  then just pay on arrival (cash only please!).\nRemember to bring your
  business cards and marketing material and, if you sell products, brin
 g some samples for us to see.  Feel free to contact me with any querie
 s or for further information sharon@betterfuture4women.co.uk\nCOST:Â Â
 £10 for Guests and FW membersÂ (cash only please, on the door!)\nBOOKI
 NG: Please CLICK HEREÂ to visit our website thenÂ click on the pink \"
 Yes I'm Attending\" button at the bottom\nMAP\n-----------------------
 ----------\nFind otherÂ local Fabulous Women events hereÂ on Networkin
 g in Surrey...\n\nFor more information visit https://networkinginsurre
 y.co.uk/events/fabulous-women-late-breakfast-reigate-30
DTSTART;TZID=Europe/London:20170413T093000
DTEND;TZID=Europe/London:20170413T113000
CATEGORIES:morning, reigate, netwinning, fabulous_women
LOCATION:Hartsfield Manor RH3 7AA
WEBSITE:http://fabulous-women.co.uk/eventdetails
URL:http://fabulous-women.co.uk/eventdetails
CONTACT:
ORGANIZER;CN="Sharon Curry":https://networkinginsurrey.co.uk/profile/S
 haronCurry
ATTACH;FMTTYPE="image/jpeg":http://storage.ning.com/topology/rest/1.0/
 file/get/1179757333?profile=original
ATTENDEE;ROLE=REQ-PARTICIPANT;PARTSTAT=ACCEPTED;RSVP=TRUE;CN="Sharon C
 urry":https://networkinginsurrey.co.uk/profile/SharonCurry
END:VEVENT
END:VCALENDAR
