BEGIN:VCALENDAR
PRODID:NingEventWidget-v1
VERSION:2.0
METHOD:PUBLISH
BEGIN:VTIMEZONE
TZID:Europe/London
X-LIC-LOCATION:Europe/London
BEGIN:DAYLIGHT
TZOFFSETFROM:+0000
TZOFFSETTO:+0100
TZNAME:BST
DTSTART:19700329T010000
RRULE:FREQ=YEARLY;BYMONTH=3;BYDAY=-1SU
END:DAYLIGHT
BEGIN:STANDARD
TZOFFSETFROM:+0100
TZOFFSETTO:+0000
TZNAME:GMT
DTSTART:19701025T020000
RRULE:FREQ=YEARLY;BYMONTH=10;BYDAY=-1SU
END:STANDARD
END:VTIMEZONE
BEGIN:VEVENT
UID:4626108:Event:75869
DTSTAMP:20260425T202823Z
SUMMARY:Fabulous Women Late Breakfast, Richmond
DESCRIPTION: Fabulous Women Late Breakfast at The Lass o'Richmond Hil
 l\n\nHi, I'm Lorna, the group leader for the Richmond Fabulous Women g
 roup. I look forward to welcoming you!\nIf you have been wondering wha
 t benefits you will receive from being part of this fabulous organisat
 ion, let me share with you just a few reasons why coming to a Fabulous
  Women Netwinning meeting will be the best business decision you ever 
 made:\n\nMake new friends\nFind customers, suppliers and collaborators
 \nBe inspired\nLearn new skills\n\n Our Agenda is the best mix between
  formal and informal networking - perfect for the new, as well as the 
 more experienced networker  We have Inspiring speakers; a 'Hot Seat' o
 r Mini-Coaching session; and 1-2-1's with a 'twist' where we all work 
 out ways in which we can potentially collaborate or support each other
 , even if it's simply by following each other on Twitter etc. Our spe
 aker this month is Leonie Wright. Leonie's talk is entitled \"What you
  need to know about sugar\"! Leonie will tell us how sugar is detrimen
 tal to our health and how you can avoid it - Be prepared to be surpris
 ed! \n You have the chance to make a one-minute business pitch about 
 who you are, what you do and who you do it for and how we can help you
 . (Do not worry about this if you are a little nervous, you can type i
 t out and read it if you wish! We do not judge, we just want to help y
 ou)  Women do business with men too, and Fabulous Women welcomes Marve
 llous Men who are happy to network in our style. This means collaborat
 ion not competition, and support not sell and we know that you are int
 erested in both personal and business development  You don't need to b
 e a member - you can attend up to three Fabulous Women Netwinningmeeti
 ngs as a guest\n With all these benefits to being a part of the Fabulo
 us Women experience, how can you resist?! To attend, simply clicking o
 n the booking link below to go to our website and confirm your attenda
 nce, so the venue can cater for you, then just pay on arrival (cash on
 ly please!).\n Remember to bring your business cards and marketing mat
 erial and, if you sell products, bring some samples for us to see.  Fe
 el free to contact me with any queries or for further information lor
 navalcin@gmail.com\nCOST: £10 for Guests and FW members (cash only 
 please, on the door!)\nBOOKING: Please CLICK HERE to visit our websit
 e then click on the pink \"Yes I'm Attending\" button at the bottom\n
 MAP\n---------------------------------\nFind other local Fabulous Wom
 en events here on Networking in Surrey...\n\nFor more information vis
 it https://networkinginsurrey.co.uk/events/fabulous-women-late-breakfa
 st-reigate-14
DTSTART;TZID=Europe/London:20151215T180000
DTEND;TZID=Europe/London:20151215T190000
CATEGORIES:late_breakfast, richmond
LOCATION:Lass o' Richmond Hill TW10 6JJ
WEBSITE:
URL:
CONTACT:
ORGANIZER;CN="Lorna Valcin":https://networkinginsurrey.co.uk/profile/L
 ornaValcin771
ATTACH;FMTTYPE="image/jpeg":http://storage.ning.com/topology/rest/1.0/
 file/get/1179757333?profile=original
ATTENDEE;ROLE=REQ-PARTICIPANT;PARTSTAT=ACCEPTED;RSVP=TRUE;CN="Lorna Va
 lcin":https://networkinginsurrey.co.uk/profile/LornaValcin771
END:VEVENT
END:VCALENDAR
