BEGIN:VCALENDAR
PRODID:NingEventWidget-v1
VERSION:2.0
METHOD:PUBLISH
BEGIN:VTIMEZONE
TZID:Europe/London
X-LIC-LOCATION:Europe/London
BEGIN:DAYLIGHT
TZOFFSETFROM:+0000
TZOFFSETTO:+0100
TZNAME:BST
DTSTART:19700329T010000
RRULE:FREQ=YEARLY;BYMONTH=3;BYDAY=-1SU
END:DAYLIGHT
BEGIN:STANDARD
TZOFFSETFROM:+0100
TZOFFSETTO:+0000
TZNAME:GMT
DTSTART:19701025T020000
RRULE:FREQ=YEARLY;BYMONTH=10;BYDAY=-1SU
END:STANDARD
END:VTIMEZONE
BEGIN:VEVENT
UID:4626108:Event:82152
DTSTAMP:20260424T220628Z
SUMMARY:Fabulous Women Late Breakfast, Claygate
DESCRIPTION:Fabulous Women Late Breakfast at the Foley\n\nHi, I'm Leo
 nie, the group leader for the Esher/Oxshott Fabulous Women group. I lo
 ok forward to welcoming you!\nHere are just a few reasons why coming t
 o a Fabulous Women Netwinning meeting will be the best business decisi
 on you ever made:\n\nMake new friends\nFind customers, suppliers and c
 ollaborators\nBe inspired\nLearn new skills\n\nOur Agenda is the best 
 mix between formal and informal networking - perfect for the new, as w
 ell as the more experienced networker.\nWe have Inspiring speakers; a 
 'Hot Seat' or Mini-Coaching session; and 1-2-1's with a 'twist' where 
 we all work out ways in which we can potentially collaborate or suppor
 t each other, even if it's simply by following each other on Twitter e
 tc.This month \nOur speakers are Mark Rouvray from ActivWeb Design a
 nd SEO who will hold a Q&A on web design, SEO, email marketing and mor
 e, and Sophie Comas from Rimu Marketing.\nYou have the chance to make 
 a one-minute business pitch about who you are, what you do and who you
  do it for and how we can help you. (Do not worry about this if you ar
 e a little nervous, you can type it out and read it if you wish! We do
  not judge, we just want to help you).\nWomen do business with men too
 , and Fabulous Women welcomes Marvellous Men who are happy to network 
 in our style. This means collaboration not competition, and support no
 t sell and we know that you are interested in both personal and busine
 ss development.\nYou don't need to be a member to attend a Fabulous Wo
 men Netwinning meeting. You can attend up to three meetings as a guest
 .\nWith all these benefits to being a part of the Fabulous Women exper
 ience, how can you resist?! To attend, simply confirm your attendance 
 by clicking on the blue \"Yes I'm Attending\" button on the right, so 
 the venue can cater for you, then just pay the attendance fee on arriv
 al (cash only please!).  Remember to bring your business cards and mar
 keting material and, if you sell products, bring some samples for us t
 o see.  Feel free to contact me with any queries or for further inform
 ation leonie@eatwright.co.uk\nCOST: £10 for Guests and FW members (
 cash only please, on the door!)\nBOOKING: Please CLICK HERE to visit 
 our website then click on the pink \"Yes I'm Attending\" button at th
 e bottom\nMAP\n---------------------------------\nFind other local Fa
 bulous Women events here on Networking in Surrey...\n\nFor more infor
 mation visit https://networkinginsurrey.co.uk/events/fabulous-women-la
 te-breakfast-oxshott-9
DTSTART;TZID=Europe/London:20160922T093000
DTEND;TZID=Europe/London:20160922T113000
CATEGORIES:morning, esher_oxshott, netwinning, fabulous_women
LOCATION:The Foley KT10 0LZ
WEBSITE:http://fabulous-women.co.uk/eventdetails
URL:http://fabulous-women.co.uk/eventdetails
CONTACT:
ORGANIZER;CN="Leonie Wright":https://networkinginsurrey.co.uk/profile/
 LeonieWright
ATTACH;FMTTYPE="image/jpeg":http://storage.ning.com/topology/rest/1.0/
 file/get/1179757333?profile=original
ATTENDEE;ROLE=REQ-PARTICIPANT;PARTSTAT=ACCEPTED;RSVP=TRUE;CN="Leonie W
 right":https://networkinginsurrey.co.uk/profile/LeonieWright
END:VEVENT
END:VCALENDAR
