BEGIN:VCALENDAR
PRODID:NingEventWidget-v1
VERSION:2.0
METHOD:PUBLISH
BEGIN:VTIMEZONE
TZID:Europe/London
X-LIC-LOCATION:Europe/London
BEGIN:DAYLIGHT
TZOFFSETFROM:+0000
TZOFFSETTO:+0100
TZNAME:BST
DTSTART:19700329T010000
RRULE:FREQ=YEARLY;BYMONTH=3;BYDAY=-1SU
END:DAYLIGHT
BEGIN:STANDARD
TZOFFSETFROM:+0100
TZOFFSETTO:+0000
TZNAME:GMT
DTSTART:19701025T020000
RRULE:FREQ=YEARLY;BYMONTH=10;BYDAY=-1SU
END:STANDARD
END:VTIMEZONE
BEGIN:VEVENT
UID:4626108:Event:96428
DTSTAMP:20260423T005646Z
SUMMARY:Fabulous Women Late Breakfast, Oxshott
DESCRIPTION:Fabulous Women Late Breakfast at the Bear, Oxshott\r\n\r\
 nHi, I'm Leonie, the group leader for the Esher/Oxshott Fabulous Women
  group. I look forward to welcoming you!\r\nHere are just a few reason
 s why coming to a Fabulous Women Netwinning meeting will be the best b
 usiness decision you ever made:\r\n\r\nMake new friends\r\nFind custom
 ers, suppliers and collaborators\r\nBe inspired\r\nLearn new skills\r\
 n\r\nOur Agenda is the best mix between formal and informal networking
  - perfect for the new, as well as the more experienced networker.\r\n
 We have Inspiring speakers; a 'Hot Seat' or Mini-Coaching session; and
  1-2-1's with a 'twist' where we all work out ways in which we can pot
 entially collaborate or support each other, even if it's simply by fol
 lowing each other on Twitter etc.\r\nThis month's speakers are Carole 
 Ann Rice, columnist for the Daily Express and owner of The Real Coachi
 ng Company and Hilary Fisher from Richmond Personal Style who helps la
 dies above 50 to look and feel great with colour and clothes. \r\nYou
  have the chance to make a one-minute business pitch about who you are
 , what you do and who you do it for and how we can help you. (Do not w
 orry about this if you are a little nervous, you can type it out and r
 ead it if you wish! We do not judge, we just want to help you).\r\nWom
 en do business with men too, and Fabulous Women welcomes Marvellous Me
 n who are happy to network in our style. This means collaboration not 
 competition, and support not sell and we know that you are interested 
 in both personal and business development.\r\nYou don't need to be a m
 ember to attend a Fabulous Women Netwinning meeting. You can attend up
  to three meetings as a guest.\r\nWith all these benefits to being a p
 art of the Fabulous Women experience, how can you resist?! To attend, 
 simply confirm your attendance by clicking on the blue \"Yes I'm Atten
 ding\" button on the right, so the venue can cater for you, then just 
 pay the attendance fee on arrival (cash only please!).\r\nRemember to 
 bring your business cards and marketing material and, if you sell prod
 ucts, bring some samples for us to see.\r\nFeel free to contact me wit
 h any queries or for further information leonie@eatwright.co.uk\r\nCOS
 T: £10 for Guests and FW members (cash only please, on the door!)\r
 \nBOOKING: Please CLICK HERE to visit our website then click on the 
 pink \"Yes I'm Attending\" button at the bottom\r\nMAP \r\n-----------
 ----------------------\r\nFind other local Fabulous Women events here
  on Networking in Surrey...\n\nFor more information visit https://net
 workinginsurrey.co.uk/events/fabulous-women-late-breakfast-oxshott-21
DTSTART;TZID=Europe/London:20180222T100000
DTEND;TZID=Europe/London:20180222T120000
CATEGORIES:morning, esher_oxshott, netwinning, fabulous_women
LOCATION:The Bear KT22 0JE
WEBSITE:http://fabulous-women.co.uk/eventdetails
URL:http://fabulous-women.co.uk/eventdetails
CONTACT:
ORGANIZER;CN="Leonie Wright":https://networkinginsurrey.co.uk/profile/
 LeonieWright
ATTACH;FMTTYPE="image/jpeg":http://storage.ning.com/topology/rest/1.0/
 file/get/1179757333?profile=original
ATTENDEE;ROLE=REQ-PARTICIPANT;PARTSTAT=ACCEPTED;RSVP=TRUE;CN="Leonie W
 right":https://networkinginsurrey.co.uk/profile/LeonieWright
END:VEVENT
END:VCALENDAR
