BEGIN:VCALENDAR
PRODID:NingEventWidget-v1
VERSION:2.0
METHOD:PUBLISH
BEGIN:VTIMEZONE
TZID:Europe/London
X-LIC-LOCATION:Europe/London
BEGIN:DAYLIGHT
TZOFFSETFROM:+0000
TZOFFSETTO:+0100
TZNAME:BST
DTSTART:19700329T010000
RRULE:FREQ=YEARLY;BYMONTH=3;BYDAY=-1SU
END:DAYLIGHT
BEGIN:STANDARD
TZOFFSETFROM:+0100
TZOFFSETTO:+0000
TZNAME:GMT
DTSTART:19701025T020000
RRULE:FREQ=YEARLY;BYMONTH=10;BYDAY=-1SU
END:STANDARD
END:VTIMEZONE
BEGIN:VEVENT
UID:4626108:Event:87207
DTSTAMP:20260424T161159Z
SUMMARY:Fabulous Women Late Breakfast, Oxshott
DESCRIPTION:Fabulous Women Late Breakfast at the Bear, Oxshott\n\nHi,
  I'm Leonie, the group leader for the Esher/Oxshott Fabulous Women gro
 up. I look forward to welcoming you!\nHere are just a few reasons why 
 coming to a Fabulous Women Netwinning meeting will be the best busines
 s decision you ever made:\n\nMake new friends\nFind customers, supplie
 rs and collaborators\nBe inspired\nLearn new skills\n\nOur Agenda is t
 he best mix between formal and informal networking - perfect for the n
 ew, as well as the more experienced networker.\nWe have Inspiring spea
 kers; a 'Hot Seat' or Mini-Coaching session; and 1-2-1's with a 'twist
 ' where we all work out ways in which we can potentially collaborate o
 r support each other, even if it's simply by following each other on T
 witter etc.This month our speakers are Our speakers are Lisa Woodward
  with  ' The W.W.W. of marketing - marketing essentials to consider o
 ff- and on-line' and Fiona Coppard on 'Fat around the middle and the 
 effect stress has on weight'.\nYou have the chance to make a one-minut
 e business pitch about who you are, what you do and who you do it for 
 and how we can help you. (Do not worry about this if you are a little 
 nervous, you can type it out and read it if you wish! We do not judge,
  we just want to help you).\nWomen do business with men too, and Fabul
 ous Women welcomes Marvellous Men who are happy to network in our styl
 e. This means collaboration not competition, and support not sell and 
 we know that you are interested in both personal and business developm
 ent.\nYou don't need to be a member to attend a Fabulous Women Netwinn
 ing meeting. You can attend up to three meetings as a guest.\nWith all
  these benefits to being a part of the Fabulous Women experience, how 
 can you resist?! To attend, simply confirm your attendance by clicking
  on the blue \"Yes I'm Attending\" button on the right, so the venue c
 an cater for you, then just pay the attendance fee on arrival (cash on
 ly please!).  Remember to bring your business cards and marketing mate
 rial and, if you sell products, bring some samples for us to see.  Fee
 l free to contact me with any queries or for further information leoni
 e@eatwright.co.uk\nCOST: £10 for Guests and FW members (cash only p
 lease, on the door!)\nBOOKING: Please CLICK HERE to visit our website
  then click on the pink \"Yes I'm Attending\" button at the bottom\nM
 AP\n---------------------------------\nFind other local Fabulous Wome
 n events here on Networking in Surrey...\n\nFor more information visi
 t https://networkinginsurrey.co.uk/events/fabulous-women-late-breakfas
 t-oxshott-12
DTSTART;TZID=Europe/London:20170323T093000
DTEND;TZID=Europe/London:20170323T113000
CATEGORIES:morning, esher_oxshott, netwinning, fabulous_women
LOCATION:The Bear KT22 0JE
WEBSITE:http://fabulous-women.co.uk/eventdetails
URL:http://fabulous-women.co.uk/eventdetails
CONTACT:
ORGANIZER;CN="Leonie Wright":https://networkinginsurrey.co.uk/profile/
 LeonieWright
ATTACH;FMTTYPE="image/jpeg":http://storage.ning.com/topology/rest/1.0/
 file/get/1179757333?profile=original
ATTENDEE;ROLE=REQ-PARTICIPANT;PARTSTAT=ACCEPTED;RSVP=TRUE;CN="Leonie W
 right":https://networkinginsurrey.co.uk/profile/LeonieWright
END:VEVENT
END:VCALENDAR
