BEGIN:VCALENDAR
PRODID:NingEventWidget-v1
VERSION:2.0
METHOD:PUBLISH
BEGIN:VTIMEZONE
TZID:Europe/London
X-LIC-LOCATION:Europe/London
BEGIN:DAYLIGHT
TZOFFSETFROM:+0000
TZOFFSETTO:+0100
TZNAME:BST
DTSTART:19700329T010000
RRULE:FREQ=YEARLY;BYMONTH=3;BYDAY=-1SU
END:DAYLIGHT
BEGIN:STANDARD
TZOFFSETFROM:+0100
TZOFFSETTO:+0000
TZNAME:GMT
DTSTART:19701025T020000
RRULE:FREQ=YEARLY;BYMONTH=10;BYDAY=-1SU
END:STANDARD
END:VTIMEZONE
BEGIN:VEVENT
UID:4626108:Event:210957
DTSTAMP:20260422T025931Z
SUMMARY:Fabulous Women Late Breakfast, Kingston
DESCRIPTION:Fabulous Women Late Breakfast at the Brook Kingston Lodge
  Hotel\r\n\r\nHi, I'm Caroline, the group leader for the Kingston Fabu
 lous Women group. I look forward to welcoming you!\r\nHere are just a 
 few reasons why coming to a Fabulous Women Netwinning meeting will be 
 the best business decision you ever made:\r\n\r\nMake new friends\r\nF
 ind customers, suppliers and collaborators\r\nBe inspired\r\nLearn new
  skills\r\n\r\nOur Agenda is the best mix between formal and informal 
 networking - perfect for the new, as well as the more experienced netw
 orker\r\nWe have Inspiring speakers; a 'Hot Seat' or Mini-Coaching ses
 sion; and 1-2-1's with a 'twist' where we all work out ways in which w
 e can potentially collaborate or support each other, even if it's simp
 ly by following each other on Twitter etc. \r\nThis month's speaker i
 s Leonie Wright from EatWright.\r\nYou have the chance to make a one-m
 inute business pitch about who you are, what you do and who you do it 
 for and how we can help you. (If you are a little nervous, you can typ
 e it out and read it if you wish! We do not judge, we just want to hel
 p you)\r\nWomen do business with men too, and Fabulous Women welcomes 
 Marvellous Men who are happy to network in our style. This means colla
 boration not competition, and support not sell and we know that you ar
 e interested in both personal and business development\r\nYou don't ne
 ed to be a member to attend a Fabulous Women Netwinning meeting. The a
 ttendance fee of £10 includes a hot drink and light refreshments. Vis
 itors may attend up to 3 Fabulous Women and Marvellous Men meetings be
 fore being required to join. We promise you a warm welcome, a chance 
 to promote your business and some great connections with other busines
 s women and men. \r\nWith all these benefits to being a part of the F
 abulous Women experience, how can you resist?!  Remember to bring you
 r business cards and marketing material and, if you sell products, bri
 ng some samples for us to see.\r\nFeel free to contact me with any que
 ries or for further information caroline.ewans@zoho.com\r\nCOST: £10
  for Guests and FW members (cash only please, on the door!)\r\nBOOKIN
 G: Please CLICK HERE to visit our website then click on the pink \"Y
 es I'm Attending\" button at the bottom\r\nMAP \r\n-------------------
 --------------\r\nFind other local Fabulous Women events here on Net
 working in Surrey...\n\nFor more information visit https://networkingi
 nsurrey.co.uk/events/fabulous-women-late-breakfast-kingston-860
DTSTART;TZID=Europe/London:20190919T100000
DTEND;TZID=Europe/London:20190919T120000
CATEGORIES:morning, kingston, netwinning, fabulous_women
LOCATION:The Brook Kingston Lodge Hotel KT2 7NP
WEBSITE:http://fabulous-women.co.uk/event/detail_1626
URL:http://fabulous-women.co.uk/event/detail_1626
CONTACT:07768 197507
ORGANIZER;CN="Caroline Ewans":https://networkinginsurrey.co.uk/profile
 /CarolineEwans
ATTACH;FMTTYPE="image/jpeg":https://storage.ning.com/topology/rest/1.0
 /file/get/628389758?profile=original
ATTENDEE;ROLE=REQ-PARTICIPANT;PARTSTAT=ACCEPTED;RSVP=TRUE;CN="Caroline
  Ewans":https://networkinginsurrey.co.uk/profile/CarolineEwans
END:VEVENT
END:VCALENDAR
