BEGIN:VCALENDAR
PRODID:NingEventWidget-v1
VERSION:2.0
METHOD:PUBLISH
BEGIN:VTIMEZONE
TZID:Europe/London
X-LIC-LOCATION:Europe/London
BEGIN:DAYLIGHT
TZOFFSETFROM:+0000
TZOFFSETTO:+0100
TZNAME:BST
DTSTART:19700329T010000
RRULE:FREQ=YEARLY;BYMONTH=3;BYDAY=-1SU
END:DAYLIGHT
BEGIN:STANDARD
TZOFFSETFROM:+0100
TZOFFSETTO:+0000
TZNAME:GMT
DTSTART:19701025T020000
RRULE:FREQ=YEARLY;BYMONTH=10;BYDAY=-1SU
END:STANDARD
END:VTIMEZONE
BEGIN:VEVENT
UID:4626108:Event:86626
DTSTAMP:20260424T092206Z
SUMMARY:Fabulous Women Late Breakfast, Kingston
DESCRIPTION:Fabulous Women Late Breakfast at the Brook Kingston Lodge
  Hotel\n\nHi, I'm Caroline, the group leader for the Kingston Fabulous
  Women group. I look forward to welcoming you!\nHere are just a few re
 asons why coming to a Fabulous Women Netwinning meeting will be the be
 st business decision you ever made:\n\nMake new friends\nFind customer
 s, suppliers and collaborators\nBe inspired\nLearn new skills\n\nOur A
 genda is the best mix between formal and informal networking - perfect
  for the new, as well as the more experienced networker\nWe have Inspi
 ring speakers; a 'Hot Seat' or Mini-Coaching session; and 1-2-1's with
  a 'twist' where we all work out ways in which we can potentially coll
 aborate or support each other, even if it's simply by following each o
 ther on Twitter etc.  This month our speakers are Lorna Valcin, Arbon
 ne Consultant, on reviewing your goals for 2017, and Oxana Simpson of 
 the The Russian FaceToning School on how to look 10 years younger by d
 oing facial exercises.\nYou have the chance to make a one-minute busin
 ess pitch about who you are, what you do and who you do it for and how
  we can help you. (If you are a little nervous, you can type it out an
 d read it if you wish! We do not judge, we just want to help you)  Wom
 en do business with men too, and Fabulous Women welcomes Marvellous Me
 n who are happy to network in our style. This means collaboration not 
 competition, and support not sell and we know that you are interested 
 in both personal and business development  You don't need to be a memb
 er to attend a Fabulous Women Netwinning meeting. The attendance fee o
 f £10 includes a hot drink and light refreshments. Visitors may atten
 d up to 3 Fabulous Women and Marvellous Men meetings before being requ
 ired to join. We promise you a warm welcome, a chance to promote your
  business and some great connections with other business women and men
 .   With all these benefits to being a part of the Fabulous Women exp
 erience, how can you resist?!  Remember to bring your business cards 
 and marketing material and, if you sell products, bring some samples f
 or us to see.  Feel free to contact me with any queries or for further
  information caroline.ewans@zoho.com\nCOST: £10 for Guests and FW me
 mbers (cash only please, on the door!)\nBOOKING: Please CLICK HERE t
 o visit our website then click on the pink \"Yes I'm Attending\" butt
 on at the bottom\nMAP\n---------------------------------\nFind other 
 local Fabulous Women events here on Networking in Surrey...\n\nFor mo
 re information visit https://networkinginsurrey.co.uk/events/fabulous-
 women-late-breakfast-kingston-833
DTSTART;TZID=Europe/London:20170216T100000
DTEND;TZID=Europe/London:20170216T120000
CATEGORIES:morning, kingston, netwinning, fabulous_women
LOCATION:The Brook Kingston Lodge Hotel KT2 7NP
WEBSITE:http://fabulous-women.co.uk/event/detail_1626
URL:http://fabulous-women.co.uk/event/detail_1626
CONTACT:07768 197507
ORGANIZER;CN="Caroline Ewans":https://networkinginsurrey.co.uk/profile
 /CarolineEwans
ATTACH;FMTTYPE="image/jpeg":http://storage.ning.com/topology/rest/1.0/
 file/get/1179757333?profile=original
ATTENDEE;ROLE=REQ-PARTICIPANT;PARTSTAT=ACCEPTED;RSVP=TRUE;CN="Caroline
  Ewans":https://networkinginsurrey.co.uk/profile/CarolineEwans
END:VEVENT
END:VCALENDAR
