BEGIN:VCALENDAR
PRODID:NingEventWidget-v1
VERSION:2.0
METHOD:PUBLISH
BEGIN:VTIMEZONE
TZID:Europe/London
X-LIC-LOCATION:Europe/London
BEGIN:DAYLIGHT
TZOFFSETFROM:+0000
TZOFFSETTO:+0100
TZNAME:BST
DTSTART:19700329T010000
RRULE:FREQ=YEARLY;BYMONTH=3;BYDAY=-1SU
END:DAYLIGHT
BEGIN:STANDARD
TZOFFSETFROM:+0100
TZOFFSETTO:+0000
TZNAME:GMT
DTSTART:19701025T020000
RRULE:FREQ=YEARLY;BYMONTH=10;BYDAY=-1SU
END:STANDARD
END:VTIMEZONE
BEGIN:VEVENT
UID:4626108:Event:229981
DTSTAMP:20260422T031119Z
SUMMARY:Fabulous Women Late Breakfast, Kingston
DESCRIPTION:Fabulous Women Late Breakfast at the Brook Kingston Lodge
  Hotel\n\nHi, I'm Caroline, the group leader for the Kingston Fabulous
  Women group. I look forward to welcoming you!\nHere are just a few re
 asons why coming to a Fabulous Women Netwinning meeting will be the be
 st business decision you ever made:\n\nMake new friends\nFind customer
 s, suppliers and collaborators\nBe inspired\nLearn new skills\n\nOur A
 genda is the best mix between formal and informal networking - perfect
  for the new, as well as the more experienced networker\nWe have Inspi
 ring speakers; a 'Hot Seat' or Mini-Coaching session; and 1-2-1's with
  a 'twist' where we all work out ways in which we can potentially coll
 aborate or support each other, even if it's simply by following each o
 ther on Twitter etc. \nThis month's speaker is  is Celine Bauge.\nYo
 u have the chance to make a one-minute business pitch about who you ar
 e, what you do and who you do it for and how we can help you. (If you 
 are a little nervous, you can type it out and read it if you wish! We 
 do not judge, we just want to help you)\nWomen do business with men to
 o, and Fabulous Women welcomes Marvellous Men who are happy to network
  in our style. This means collaboration not competition, and support n
 ot sell and we know that you are interested in both personal and busin
 ess development\nYou don't need to be a member to attend a Fabulous Wo
 men Netwinning meeting. The attendance fee of £10 includes a hot drin
 k and light refreshments. Visitors may attend up to 3 Fabulous Women a
 nd Marvellous Men meetings before being required to join. We promise 
 you a warm welcome, a chance to promote your business and some great c
 onnections with other business women and men. \nWith all these benefi
 ts to being a part of the Fabulous Women experience, how can you resis
 t?!  Remember to bring your business cards and marketing material and
 , if you sell products, bring some samples for us to see.\nFeel free t
 o contact me with any queries or for further information caroline.ewan
 s@zoho.com\nCOST: £10 for Guests and FW members (cash only please, 
 on the door!)\nBOOKING: Please CLICK HERE to visit our website then 
 click on the pink \"Yes I'm Attending\" button at the bottom\nMAP\n---
 ------------------------------\nFind other local Fabulous Women event
 s here on Networking in Surrey...\n\nFor more information visit https
 ://networkinginsurrey.co.uk/events/fabulous-women-late-breakfast-kings
 ton-631
DTSTART;TZID=Europe/London:20191017T100000
DTEND;TZID=Europe/London:20191017T120000
CATEGORIES:morning, kingston, netwinning, fabulous_women
LOCATION:The Brook Kingston Lodge Hotel KT2 7NP
WEBSITE:http://fabulous-women.co.uk/event/detail_1626
URL:http://fabulous-women.co.uk/event/detail_1626
CONTACT:07768 197507
ORGANIZER;CN="Caroline Ewans":https://networkinginsurrey.co.uk/profile
 /CarolineEwans
ATTACH;FMTTYPE="image/jpeg":https://storage.ning.com/topology/rest/1.0
 /file/get/628389758?profile=original
ATTENDEE;ROLE=REQ-PARTICIPANT;PARTSTAT=ACCEPTED;RSVP=TRUE;CN="Caroline
  Ewans":https://networkinginsurrey.co.uk/profile/CarolineEwans
END:VEVENT
END:VCALENDAR
