BEGIN:VCALENDAR
PRODID:NingEventWidget-v1
VERSION:2.0
METHOD:PUBLISH
BEGIN:VTIMEZONE
TZID:Europe/London
X-LIC-LOCATION:Europe/London
BEGIN:DAYLIGHT
TZOFFSETFROM:+0000
TZOFFSETTO:+0100
TZNAME:BST
DTSTART:19700329T010000
RRULE:FREQ=YEARLY;BYMONTH=3;BYDAY=-1SU
END:DAYLIGHT
BEGIN:STANDARD
TZOFFSETFROM:+0100
TZOFFSETTO:+0000
TZNAME:GMT
DTSTART:19701025T020000
RRULE:FREQ=YEARLY;BYMONTH=10;BYDAY=-1SU
END:STANDARD
END:VTIMEZONE
BEGIN:VEVENT
UID:4626108:Event:182833
DTSTAMP:20260422T025936Z
SUMMARY:Fabulous Women Late Breakfast, Kingston
DESCRIPTION:Fabulous Women Late Breakfast at the Brook Kingston Lodge
  Hotel\r\n\r\nHi, I'm Caroline, the group leader for the Kingston Fabu
 lous Women group. I look forward to welcoming you!\r\nHere are just a 
 few reasons why coming to a Fabulous Women Netwinning meeting will be 
 the best business decision you ever made:\r\n\r\nMake new friends\r\nF
 ind customers, suppliers and collaborators\r\nBe inspired\r\nLearn new
  skills\r\n\r\nOur Agenda is the best mix between formal and informal 
 networking - perfect for the new, as well as the more experienced netw
 orker\r\nWe have Inspiring speakers; a 'Hot Seat' or Mini-Coaching ses
 sion; and 1-2-1's with a 'twist' where we all work out ways in which w
 e can potentially collaborate or support each other, even if it's simp
 ly by following each other on Twitter etc. \r\nThis month our speaker
  is Leonie Wright from EatWright.\r\nYou have the chance to make a one
 -minute business pitch about who you are, what you do and who you do i
 t for and how we can help you. (If you are a little nervous, you can t
 ype it out and read it if you wish! We do not judge, we just want to h
 elp you)\r\nWomen do business with men too, and Fabulous Women welcome
 s Marvellous Men who are happy to network in our style. This means col
 laboration not competition, and support not sell and we know that you 
 are interested in both personal and business development\r\nYou don't 
 need to be a member to attend a Fabulous Women Netwinning meeting. The
  attendance fee of £10 includes a hot drink and light refreshments. V
 isitors may attend up to 3 Fabulous Women and Marvellous Men meetings 
 before being required to join. We promise you a warm welcome, a chanc
 e to promote your business and some great connections with other busin
 ess women and men. \r\nWith all these benefits to being a part of the
  Fabulous Women experience, how can you resist?!  Remember to bring y
 our business cards and marketing material and, if you sell products, b
 ring some samples for us to see.\r\nFeel free to contact me with any q
 ueries or for further information caroline.ewans@zoho.com\r\nCOST: £
 10 for Guests and FW members (cash only please, on the door!)\r\nBOOK
 ING: Please CLICK HERE to visit our website then click on the pink \
 "Yes I'm Attending\" button at the bottom\r\nMAP \r\n-----------------
 ----------------\r\nFind other local Fabulous Women events here on N
 etworking in Surrey...\n\nFor more information visit https://networkin
 ginsurrey.co.uk/events/fabulous-women-late-breakfast-kingston-553
DTSTART;TZID=Europe/London:20190815T100000
DTEND;TZID=Europe/London:20190815T120000
CATEGORIES:morning, kingston, netwinning, fabulous_women
LOCATION:The Brook Kingston Lodge Hotel KT2 7NP
WEBSITE:http://fabulous-women.co.uk/event/detail_1626
URL:http://fabulous-women.co.uk/event/detail_1626
CONTACT:07768 197507
ORGANIZER;CN="Caroline Ewans":https://networkinginsurrey.co.uk/profile
 /CarolineEwans
ATTACH;FMTTYPE="image/jpeg":https://storage.ning.com/topology/rest/1.0
 /file/get/628389758?profile=original
ATTENDEE;ROLE=REQ-PARTICIPANT;PARTSTAT=ACCEPTED;RSVP=TRUE;CN="Caroline
  Ewans":https://networkinginsurrey.co.uk/profile/CarolineEwans
END:VEVENT
END:VCALENDAR
