BEGIN:VCALENDAR
PRODID:NingEventWidget-v1
VERSION:2.0
METHOD:PUBLISH
BEGIN:VTIMEZONE
TZID:Europe/London
X-LIC-LOCATION:Europe/London
BEGIN:DAYLIGHT
TZOFFSETFROM:+0000
TZOFFSETTO:+0100
TZNAME:BST
DTSTART:19700329T010000
RRULE:FREQ=YEARLY;BYMONTH=3;BYDAY=-1SU
END:DAYLIGHT
BEGIN:STANDARD
TZOFFSETFROM:+0100
TZOFFSETTO:+0000
TZNAME:GMT
DTSTART:19701025T020000
RRULE:FREQ=YEARLY;BYMONTH=10;BYDAY=-1SU
END:STANDARD
END:VTIMEZONE
BEGIN:VEVENT
UID:4626108:Event:53787
DTSTAMP:20260419T170312Z
SUMMARY:Fabulous Women Late Breakfast, Kingston
DESCRIPTION:Fabulous Women at The Chase Lodge Hotel\n\nFabulous Women 
 don’t just network, they netwin.\nOur agenda is a mix of informal mi
 ngling and formal 'round table', aimed at both the new-at-networking a
 nd the experienced networker.\nThis means you get the best of what net
 working offers in a netwinning format. As Fabulous Women we are as int
 erested in personal development as we are in business development.\nEx
 pect two fab talks: one for you and one for your business. That alone 
 is worth coming for.\nBusy Fabulous Women have time challenges. Our un
 ique agenda means you can netwin for one hour, or you can netwin for t
 wo and make the most of your day no matter how busy it is.\nWe welcome
  men willing to netwin on our terms: collaboration not competition, su
 pport not sell.\nCome along and experience Netwinning the Fabulous way
 !\nCOST: £10.00 for members (£15 non-members)meeting fee including l
 ight breakfast\nBOOKING: Please CLICK HERE to book\nMAP\n-------------
 -------------------------------------------\nWe meet on the first Tues
 day of every month from 9.30 to 11.30 a.m. for a light breakfast at Th
 e Chase Lodge Hotel,10 Park Road  Hampton Wick, Kingston upon Thames,
  Surrey KT1 4AS\n\nFor more information visit https://networkinginsurr
 ey.co.uk/events/fabulous-women-late-breakfast-kingston-10
DTSTART;TZID=Europe/London:20130507T093000
DTEND;TZID=Europe/London:20130507T113000
CATEGORIES:networking
LOCATION:The Chase Lodge Hotel KT1 4AS
WEBSITE:http://www.fabulous-women.co.uk
URL:http://www.fabulous-women.co.uk
CONTACT:07900 187814
ORGANIZER;CN="Prabha Shiyani":https://networkinginsurrey.co.uk/profile
 /PrabhaShiyani
ATTACH;FMTTYPE="image/jpeg":http://storage.ning.com/topology/rest/1.0/
 file/get/2591415110?profile=original
ATTENDEE;ROLE=REQ-PARTICIPANT;PARTSTAT=ACCEPTED;RSVP=TRUE;CN="Huda Gay
 ":https://networkinginsurrey.co.uk/profile/HudaGay
ATTENDEE;ROLE=REQ-PARTICIPANT;PARTSTAT=ACCEPTED;RSVP=TRUE;CN="Prabha S
 hiyani":https://networkinginsurrey.co.uk/profile/PrabhaShiyani
END:VEVENT
END:VCALENDAR
