BEGIN:VCALENDAR
PRODID:NingEventWidget-v1
VERSION:2.0
METHOD:PUBLISH
BEGIN:VTIMEZONE
TZID:Europe/London
X-LIC-LOCATION:Europe/London
BEGIN:DAYLIGHT
TZOFFSETFROM:+0000
TZOFFSETTO:+0100
TZNAME:BST
DTSTART:19700329T010000
RRULE:FREQ=YEARLY;BYMONTH=3;BYDAY=-1SU
END:DAYLIGHT
BEGIN:STANDARD
TZOFFSETFROM:+0100
TZOFFSETTO:+0000
TZNAME:GMT
DTSTART:19701025T020000
RRULE:FREQ=YEARLY;BYMONTH=10;BYDAY=-1SU
END:STANDARD
END:VTIMEZONE
BEGIN:VEVENT
UID:4626108:Event:136956
DTSTAMP:20260423T193106Z
SUMMARY:Fabulous Women Late Breakfast, Guildford
DESCRIPTION:Fabulous Women Late Breakfast at the Duke of Wellington\r
 \n\r\nHi, I'm Amanda, the group leader for the Guildford Fabulous Wom
 en group. I look forward to welcoming you!\r\nHere are just a few rea
 sons why coming to a Fabulous Women Netwinning meeting will be the bes
 t business decision you ever made:\r\n\r\nMake new friends\r\nFind cus
 tomers, suppliers and collaborators\r\nBe inspired\r\nLearn new skills
 \r\n\r\nOur Agenda is the best mix between formal and informal networ
 king - perfect for the new, as well as the more experienced networker\
 r\nWe have Inspiring speakers; a 'Hot Seat' or Mini-Coaching session; 
 and 1-2-1's with a 'twist' where we all work out ways in which we can 
 potentially collaborate or support each other, even if it's simply by 
 following each other on Twitter etc. \r\nThis month our speaker is Ma
 ndy Dineley sharing tips on networking.\r\nYou have the chance to make
  a one-minute business pitch about who you are, what you do and who y
 ou do it for and how we can help you. (Do not worry about this if you 
 are a little nervous, you can type it out and read it if you wish! We 
 do not judge, we just want to help you).\r\nWomen do business with men
  too, and Fabulous Women welcomes Marvellous Men who are happy to net
 work in our style. This means collaboration not competition, and suppo
 rt not sell and we know that you are interested in both personal and b
 usiness development.\r\nYou don't need to be a member to attend a Fab
 ulous Women Netwinning meeting. You can attend up to three meetings as
  a guest.\r\nWith all these benefits to being a part of the Fabulous W
 omen experience, how can you resist?!To attend, simply confirm your at
 tendance by clicking on the blue \"Yes I'm Attending\" button on the r
 ight, so the venue can cater for you, then just pay the attendance fee
  on arrival (cash only please!).\r\nRemember to bring your business ca
 rds and marketing material and, if you sell products, bring some sampl
 es for us to see.\r\nI look forward to seeing you.\r\nCOST: £10 for
  Guests and FW members (cash only please, on the door!)\r\nBOOKING: 
 Please CLICK HERE to visit our website then click on the pink \"Yes
  I'm Attending\" button at the bottom\r\nMAP \r\n---------------------
 ------------\r\nFind other local Fabulous Women events here on Netwo
 rking in Surrey...\n\nFor more information visit https://networkingins
 urrey.co.uk/events/fabulous-women-late-breakfast-guildford-948
DTSTART;TZID=Europe/London:20190521T100000
DTEND;TZID=Europe/London:20190521T120000
CATEGORIES:morning, guildford, netwinning, fabulous_women
LOCATION:Duke of Wellington KT24 6AA
WEBSITE:https://www.phcompany.com/de-vere/horsley-estate/
URL:https://www.phcompany.com/de-vere/horsley-estate/
CONTACT:
ORGANIZER:Amanda Weller
ATTACH;FMTTYPE="image/jpeg":https://storage.ning.com/topology/rest/1.0
 /file/get/861358110?profile=original
ATTENDEE;ROLE=REQ-PARTICIPANT;PARTSTAT=ACCEPTED;RSVP=TRUE;CN="Keith Gr
 over, NiS Founder":https://networkinginsurrey.co.uk/profile/KeithGrove
 r
END:VEVENT
END:VCALENDAR
