BEGIN:VCALENDAR
PRODID:NingEventWidget-v1
VERSION:2.0
METHOD:PUBLISH
BEGIN:VTIMEZONE
TZID:Europe/London
X-LIC-LOCATION:Europe/London
BEGIN:DAYLIGHT
TZOFFSETFROM:+0000
TZOFFSETTO:+0100
TZNAME:BST
DTSTART:19700329T010000
RRULE:FREQ=YEARLY;BYMONTH=3;BYDAY=-1SU
END:DAYLIGHT
BEGIN:STANDARD
TZOFFSETFROM:+0100
TZOFFSETTO:+0000
TZNAME:GMT
DTSTART:19701025T020000
RRULE:FREQ=YEARLY;BYMONTH=10;BYDAY=-1SU
END:STANDARD
END:VTIMEZONE
BEGIN:VEVENT
UID:4626108:Event:86891
DTSTAMP:20260424T143629Z
SUMMARY:Fabulous Women Late Breakfast, Guildford
DESCRIPTION:Fabulous Women Late Breakfast at Clandon Wood Natural Buri
 al Ground\n\nHi, I'm Mariette, the group leader for the Guildford Fabu
 lous Women group. I look forward to welcoming you!\nHere are just a fe
 w reasons why coming to a Fabulous Women Netwinning meeting will be th
 e best business decision you ever made:\n\nMake new friends\nFind cust
 omers, suppliers and collaborators\nBe inspired\nLearn new skills\n\n 
 Our Agenda is the best mix between formal and informal networking - pe
 rfect for the new, as well as the more experienced networker  We have 
 Inspiring speakers; a 'Hot Seat' or Mini-Coaching session; and 1-2-1's
  with a 'twist' where we all work out ways in which we can potentially
  collaborate or support each other, even if it's simply by following e
 ach other on Twitter etc. \nThis month our speakers are Richard Owen 
 from the Open Retirement Club, on Pensions, investment and Finance  
 and Judith Davies, who will teach us thing or two about breathing.\nYo
 u have the chance to make a one-minute business pitch about who you ar
 e, what you do and who you do it for and how we can help you. (Do not 
 worry about this if you are a little nervous, you can type it out and 
 read it if you wish! We do not judge, we just want to help you)  Women
  do business with men too, and Fabulous Women welcomes Marvellous Men 
 who are happy to network in our style. This means collaboration not co
 mpetition, and support not sell and we know that you are interested in
  both personal and business development  You don't need to be a member
  to attend a Fabulous Women Netwinning meeting. You can attend up to t
 hree meetings as a guest  With all these benefits to being a part of t
 he Fabulous Women experience, how can you resist?! To attend, simply c
 onfirm your attendance by clicking on the blue \"Yes I'm Attending\" b
 utton on the right, so the venue can cater for you, then just pay the 
 attendance fee on arrival (cash only please!).  Remember to bring your
  business cards and marketing material and, if you sell products, brin
 g some samples for us to see.  Feel free to contact me with any querie
 s or for further information mariette.jansen.coaching@gmail.com\nCOST
 : £10 for Guests and FW members (cash only please, on the door!)\nB
 OOKING: Please CLICK HERE to visit our website then click on the pin
 k \"Yes I'm Attending\" button at the bottom\nMAP\n(for sat-navs pleas
 e use GU4 7TT)\n---------------------------------\nFind other local F
 abulous Women events here on Networking in Surrey...\n\nFor more info
 rmation visit https://networkinginsurrey.co.uk/events/fabulous-women-l
 ate-breakfast-guildford-73
DTSTART;TZID=Europe/London:20170321T100000
DTEND;TZID=Europe/London:20170321T120000
CATEGORIES:morning, guildford, netwinning, fabulous_women
LOCATION:Clandon Wood Natural Burial Ground GU4 7FN
WEBSITE:http://fabulous-women.co.uk/homepage
URL:http://fabulous-women.co.uk/homepage
CONTACT:
ORGANIZER;CN="Dr Mariette Jansen (Dr De-Stress":https://networkinginsu
 rrey.co.uk/profile/DrMarietteJansenDrDeStrss
ATTACH;FMTTYPE="image/jpeg":http://storage.ning.com/topology/rest/1.0/
 file/get/1179757333?profile=original
ATTENDEE;ROLE=REQ-PARTICIPANT;PARTSTAT=ACCEPTED;RSVP=TRUE;CN="Dr Marie
 tte Jansen (Dr De-Stress":https://networkinginsurrey.co.uk/profile/DrM
 arietteJansenDrDeStrss
END:VEVENT
END:VCALENDAR
