BEGIN:VCALENDAR
PRODID:NingEventWidget-v1
VERSION:2.0
METHOD:PUBLISH
BEGIN:VTIMEZONE
TZID:Europe/London
X-LIC-LOCATION:Europe/London
BEGIN:DAYLIGHT
TZOFFSETFROM:+0000
TZOFFSETTO:+0100
TZNAME:BST
DTSTART:19700329T010000
RRULE:FREQ=YEARLY;BYMONTH=3;BYDAY=-1SU
END:DAYLIGHT
BEGIN:STANDARD
TZOFFSETFROM:+0100
TZOFFSETTO:+0000
TZNAME:GMT
DTSTART:19701025T020000
RRULE:FREQ=YEARLY;BYMONTH=10;BYDAY=-1SU
END:STANDARD
END:VTIMEZONE
BEGIN:VEVENT
UID:4626108:Event:98576
DTSTAMP:20260425T015332Z
SUMMARY:Fabulous Women Late Breakfast, Guildford
DESCRIPTION:Fabulous Women Late Breakfast at the Duke of Wellington\n
 \nHi, I'm Mike, the group leader for the Guildford Fabulous Women gr
 oup. I look forward to welcoming you!\nHere are just a few reasons why
  coming to a Fabulous Women Netwinning meeting will be the best busine
 ss decision you ever made:\n\nMake new friends\nFind customers, suppli
 ers and collaborators\nBe inspired\nLearn new skills\n\nOur Agenda is
  the best mix between formal and informal networking - perfect for the
  new, as well as the more experienced networker\nWe have Inspiring spe
 akers; a 'Hot Seat' or Mini-Coaching session; and 1-2-1's with a 'twis
 t' where we all work out ways in which we can potentially collaborate 
 or support each other, even if it's simply by following each other on 
 Twitter etc. \nOur speaker this month is Leonie Wright ‘How food in
 fluences your health’.\nYou have the chance to make a one-minute bus
 iness pitch about who you are, what you do and who you do it for and 
 how we can help you. (Do not worry about this if you are a little nerv
 ous, you can type it out and read it if you wish! We do not judge, we 
 just want to help you).\nWomen do business with men too, and Fabulous 
 Women welcomes Marvellous Menwho are happy to network in our style. Th
 is means collaboration not competition, and support not sell and we kn
 ow that you are interested in both personal and business development.\
 nYou don't need to be a member to attend a Fabulous Women Netwinning 
 meeting. You can attend up to three meetings as a guest.\nWith all the
 se benefits to being a part of the Fabulous Women experience, how can 
 you resist?!To attend, simply confirm your attendance by clicking on t
 he blue \"Yes I'm Attending\" button on the right, so the venue can ca
 ter for you, then just pay the attendance fee on arrival (cash only pl
 ease!).\nRemember to bring your business cards and marketing material 
 and, if you sell products, bring some samples for us to see.\nI look f
 orward to seeing you.\nCOST: £10 for Guests and FW members (cash o
 nly please, on the door!)\nBOOKING: Please CLICK HERE to visit our 
 website then click on the pink \"Yes I'm Attending\" button at the bo
 ttom\nMAP\n---------------------------------\nFind other local Fabulo
 us Women events here on Networking in Surrey...\n\nFor more informati
 on visit https://networkinginsurrey.co.uk/events/fabulous-women-late-b
 reakfast-guildford-498
DTSTART;TZID=Europe/London:20180619T100000
DTEND;TZID=Europe/London:20180619T120000
CATEGORIES:morning, guildford, netwinning, fabulous_women
LOCATION:Duke of Wellington KT24 6AA
WEBSITE:https://www.phcompany.com/de-vere/horsley-estate/
URL:https://www.phcompany.com/de-vere/horsley-estate/
CONTACT:
ORGANIZER;CN="Mike Black":https://networkinginsurrey.co.uk/profile/Mik
 eBlack
ATTACH;FMTTYPE="image/jpeg":http://storage.ning.com/topology/rest/1.0/
 file/get/1179757333?profile=original
ATTENDEE;ROLE=REQ-PARTICIPANT;PARTSTAT=ACCEPTED;RSVP=TRUE;CN="Mike Bla
 ck":https://networkinginsurrey.co.uk/profile/MikeBlack
END:VEVENT
END:VCALENDAR
