BEGIN:VCALENDAR
PRODID:NingEventWidget-v1
VERSION:2.0
METHOD:PUBLISH
BEGIN:VTIMEZONE
TZID:Europe/London
X-LIC-LOCATION:Europe/London
BEGIN:DAYLIGHT
TZOFFSETFROM:+0000
TZOFFSETTO:+0100
TZNAME:BST
DTSTART:19700329T010000
RRULE:FREQ=YEARLY;BYMONTH=3;BYDAY=-1SU
END:DAYLIGHT
BEGIN:STANDARD
TZOFFSETFROM:+0100
TZOFFSETTO:+0000
TZNAME:GMT
DTSTART:19701025T020000
RRULE:FREQ=YEARLY;BYMONTH=10;BYDAY=-1SU
END:STANDARD
END:VTIMEZONE
BEGIN:VEVENT
UID:4626108:Event:95505
DTSTAMP:20260423T005702Z
SUMMARY:NEW VENUE: Fabulous Women Late Breakfast, Guildford
DESCRIPTION:Fabulous Women Late Breakfast at The Manor House Hotel \n
 \nHi, I'm Jill, the group leader for the Guildford Fabulous Women grou
 p. I look forward to welcoming you!\nHere are just a few reasons why c
 oming to a Fabulous Women Netwinning meeting will be the best business
  decision you ever made:\n\nMake new friends\nFind customers, supplier
 s and collaborators\nBe inspired\nLearn new skills\n\n Our Agenda is t
 he best mix between formal and informal networking - perfect for the n
 ew, as well as the more experienced networker  We have Inspiring speak
 ers; a 'Hot Seat' or Mini-Coaching session; and 1-2-1's with a 'twist'
  where we all work out ways in which we can potentially collaborate or
  support each other, even if it's simply by following each other on Tw
 itter etc. \nWe have a special venue to celebrate our 6th Anniversary
 . Our speakers are Judith Davis with 'Discover the Power of Your Breat
 h' and also Gilles Pelenc .\nYou have the chance to make a one-minute
  business pitch about who you are, what you do and who you do it for a
 nd how we can help you. (Do not worry about this if you are a little n
 ervous, you can type it out and read it if you wish! We do not judge, 
 we just want to help you)  Women do business with men too, and Fabulou
 s Women welcomes Marvellous Men who are happy to network in our style.
  This means collaboration not competition, and support not sell and we
  know that you are interested in both personal and business developmen
 t  You don't need to be a member to attend a Fabulous Women Netwinning
  meeting. You can attend up to three meetings as a guest  With all the
 se benefits to being a part of the Fabulous Women experience, how can 
 you resist?! To attend, simply confirm your attendance by clicking on 
 the blue \"Yes I'm Attending\" button on the right, so the venue can c
 ater for you, then just pay the attendance fee on arrival (cash only p
 lease!).  Remember to bring your business cards and marketing material
  and, if you sell products, bring some samples for us to see.  If you 
 have any queries please email me on jillbennett80@gmail.com. I look f
 orward to seeing you.\nCOST: £10 for Guests and FW members (cash on
 ly please, on the door!)\nBOOKING: Please CLICK HERE to visit our web
 site then click on the pink \"Yes I'm Attending\" button at the botto
 m\nMAP\n---------------------------------\nFind other local Fabulous 
 Women events here on Networking in Surrey...\n\nFor more information 
 visit https://networkinginsurrey.co.uk/events/fabulous-women-late-brea
 kfast-guildford-409
DTSTART;TZID=Europe/London:20180220T100000
DTEND;TZID=Europe/London:20180220T120000
CATEGORIES:morning, guildford, netwinning, fabulous_women
LOCATION:The Manor House Hotel GU4 8SE
WEBSITE:
URL:
CONTACT:
ORGANIZER;CN="Jill Bennett":https://networkinginsurrey.co.uk/profile/J
 illBennett
ATTACH;FMTTYPE="image/jpeg":http://storage.ning.com/topology/rest/1.0/
 file/get/1179757333?profile=original
ATTENDEE;ROLE=REQ-PARTICIPANT;PARTSTAT=ACCEPTED;RSVP=TRUE;CN="Jill Ben
 nett":https://networkinginsurrey.co.uk/profile/JillBennett
END:VEVENT
END:VCALENDAR
