BEGIN:VCALENDAR
PRODID:NingEventWidget-v1
VERSION:2.0
METHOD:PUBLISH
BEGIN:VTIMEZONE
TZID:Europe/London
X-LIC-LOCATION:Europe/London
BEGIN:DAYLIGHT
TZOFFSETFROM:+0000
TZOFFSETTO:+0100
TZNAME:BST
DTSTART:19700329T010000
RRULE:FREQ=YEARLY;BYMONTH=3;BYDAY=-1SU
END:DAYLIGHT
BEGIN:STANDARD
TZOFFSETFROM:+0100
TZOFFSETTO:+0000
TZNAME:GMT
DTSTART:19701025T020000
RRULE:FREQ=YEARLY;BYMONTH=10;BYDAY=-1SU
END:STANDARD
END:VTIMEZONE
BEGIN:VEVENT
UID:4626108:Event:75413
DTSTAMP:20260426T032528Z
SUMMARY:Fabulous Women Late Breakfast, Guildford
DESCRIPTION:Fabulous Women Late Breakfast at the Beefeater Parkway\n\
 nHi, I'm Mariette, the group leader for the Guildford Fabulous Women g
 roup. I look forward to welcoming you!\nHere are just a few reasons wh
 y coming to a Fabulous Women Netwinning meeting will be the best busin
 ess decision you ever made:\n\nMake new friends\nFind customers, suppl
 iers and collaborators\nBe inspired\nLearn new skills\n\n Our Agenda i
 s the best mix between formal and informal networking - perfect for th
 e new, as well as the more experienced networker  We have Inspiring sp
 eakers; a 'Hot Seat' or Mini-Coaching session; and 1-2-1's with a 'twi
 st' where we all work out ways in which we can potentially collaborate
  or support each other, even if it's simply by following each other on
  Twitter etc. Our speaker this month is Karen Aspley of Business doc
 tors  - 'Believe it or not – How your self belief can help or hinde
 r you and proof you can change it'  You have the chance to make a one-
 minute business pitch about who you are, what you do and who you do it
  for and how we can help you. (Do not worry about this if you are a li
 ttle nervous, you can type it out and read it if you wish! We do not j
 udge, we just want to help you)  Women do business with men too, and F
 abulous Women welcomes Marvellous Men who are happy to network in our 
 style. This means collaboration not competition, and support not sell 
 and we know that you are interested in both personal and business deve
 lopment  You don't need to be a member to attend a Fabulous Women Netw
 inning meeting. You can attend up to three meetings as a guest  With a
 ll these benefits to being a part of the Fabulous Women experience, ho
 w can you resist?! To attend, simply confirm your attendance by clicki
 ng on the blue \"Yes I'm Attending\" button on the right, so the venue
  can cater for you, then just pay the attendance fee on arrival (cash 
 only please!).  Remember to bring your business cards and marketing ma
 terial and, if you sell products, bring some samples for us to see.  F
 eel free to contact me with any queries or for further information ma
 riette.jansen.coaching@gmail.com\nCOST: £10 for Guests and FW member
 s (cash only please, on the door!)\nBOOKING: Please CLICK HERE to vi
 sit our website then click on the pink \"Yes I'm Attending\" button a
 t the bottom\nMAP\n---------------------------------\nFind other loca
 l Fabulous Women events here on Networking in Surrey...\n\nFor more i
 nformation visit https://networkinginsurrey.co.uk/events/fabulous-wome
 n-late-breakfast-guildford-27
DTSTART;TZID=Europe/London:20151020T100000
DTEND;TZID=Europe/London:20151020T120000
CATEGORIES:morning, guildford, netwinning, fabulous_women
LOCATION:Beefeater GU1 1UP
WEBSITE:
URL:
CONTACT:
ORGANIZER;CN="Dr Mariette Jansen (Dr De-Stress":https://networkinginsu
 rrey.co.uk/profile/DrMarietteJansenDrDeStrss
ATTACH;FMTTYPE="image/jpeg":http://storage.ning.com/topology/rest/1.0/
 file/get/1179757333?profile=original
ATTENDEE;ROLE=REQ-PARTICIPANT;PARTSTAT=ACCEPTED;RSVP=TRUE;CN="Dr Marie
 tte Jansen (Dr De-Stress":https://networkinginsurrey.co.uk/profile/DrM
 arietteJansenDrDeStrss
END:VEVENT
END:VCALENDAR
