BEGIN:VCALENDAR
PRODID:NingEventWidget-v1
VERSION:2.0
METHOD:PUBLISH
BEGIN:VTIMEZONE
TZID:Europe/London
X-LIC-LOCATION:Europe/London
BEGIN:DAYLIGHT
TZOFFSETFROM:+0000
TZOFFSETTO:+0100
TZNAME:BST
DTSTART:19700329T010000
RRULE:FREQ=YEARLY;BYMONTH=3;BYDAY=-1SU
END:DAYLIGHT
BEGIN:STANDARD
TZOFFSETFROM:+0100
TZOFFSETTO:+0000
TZNAME:GMT
DTSTART:19701025T020000
RRULE:FREQ=YEARLY;BYMONTH=10;BYDAY=-1SU
END:STANDARD
END:VTIMEZONE
BEGIN:VEVENT
UID:4626108:Event:69540
DTSTAMP:20260423T171654Z
SUMMARY:Fabulous Women Late Breakfast, Guildford
DESCRIPTION:Fabulous Women Late Breakfast at Bar des Arts\n\nHi, I'm M
 ariette, the group leader for the Guildford Fabulous Women group. I lo
 ok forward to welcoming you!\nOur speaker this month is Jane Hardy, wh
 o will share her moving journey, from 200K to zero.....If you haven't 
 heard it before, it is a MUST to get inspired.\nIf you have been wonde
 ring what benefits you will receive from being part of this fabulous o
 rganisation, let me share with you just a few reasons why coming to a 
 Fabulous Women Netwinning meeting will be the best business decision y
 ou ever made:  - Make new friends  - Find customers, suppliers and col
 laborators  - Be inspired  - Learn new skills  - Our Agenda is the bes
 t mix between formal and informal networking - perfect for the new, as
  well as the more experienced networker  - Inspiring speakers; a 'Hot 
 Seat' or Mini-Coaching session; and 1-2-1's with a 'twist' where we al
 l work out ways in which we can potentially collaborate or support eac
 h other, even if it's simply by following each other on Twitter etc.  
 - The chance to make a one minute business pitch about who you are, wh
 at you do and who you do it for and how we can help you. (Do not worry
  about this if you are a little nervous, you can type it out and read 
 it if you wish! We do not judge, we just want to help you)  - Women do
  business with men too, and Fabulous Women welcomes Marvellous Men who
  are happy to network in our style. This means collaboration not compe
 tition, and support not sell and we know that you are interested in bo
 th personal and business development  - You don't need to be a member 
 to attend a Fabulous Women Netwinning meeting. You can attend up to th
 ree meetings as a guest  With all these benefits to being a part of th
 e Fabulous Women experience, how can you resist?! To attend, simply co
 nfirm your attendance by clicking on the blue \"Yes I'm Attending\" bu
 tton on the right, so the venue can cater for you, then just pay the a
 ttendance fee on arrival (cash only please!).  Remember to bring your 
 business cards and marketing material and, if you sell products, bring
  some samples for us to see.  Feel free to contact me with any queries
  or for further information mariette.jansen.coaching@gmail.com\nCOST:Â
  Â£15 for Guests and Â£10 for FW membersÂ (cash only please!)\nBOOKING
 : Please CLICK HEREÂ to visit our website thenÂ click on the blue \"Ye
 s I'm Attending\" button on the right\nMAP\n\nFor more information vis
 it https://networkinginsurrey.co.uk/events/fabulous-women-late-breakfa
 st-guildford-17
DTSTART;TZID=Europe/London:20141216T093000
DTEND;TZID=Europe/London:20141216T113000
CATEGORIES:morning, guildford, netwinning, fabulous_women
LOCATION:Bar des Arts
WEBSITE:http://www.fabulous-women.co.uk/meetings-events/viewevent/1386
 -guildford-3rd-tuesday-each-month?groupid=30
URL:http://www.fabulous-women.co.uk/meetings-events/viewevent/1386-gui
 ldford-3rd-tuesday-each-month?groupid=30
CONTACT:07768 197507
ORGANIZER:Dr Mariette Jansen - Dr De-Stress
ATTACH;FMTTYPE="image/jpeg":http://storage.ning.com/topology/rest/1.0/
 file/get/2591437643?profile=original
ATTENDEE;ROLE=REQ-PARTICIPANT;PARTSTAT=ACCEPTED;RSVP=TRUE;CN="Jane Har
 dy":https://networkinginsurrey.co.uk/profile/JaneHardy
END:VEVENT
END:VCALENDAR
