BEGIN:VCALENDAR
PRODID:NingEventWidget-v1
VERSION:2.0
METHOD:PUBLISH
BEGIN:VTIMEZONE
TZID:Europe/London
X-LIC-LOCATION:Europe/London
BEGIN:DAYLIGHT
TZOFFSETFROM:+0000
TZOFFSETTO:+0100
TZNAME:BST
DTSTART:19700329T010000
RRULE:FREQ=YEARLY;BYMONTH=3;BYDAY=-1SU
END:DAYLIGHT
BEGIN:STANDARD
TZOFFSETFROM:+0100
TZOFFSETTO:+0000
TZNAME:GMT
DTSTART:19701025T020000
RRULE:FREQ=YEARLY;BYMONTH=10;BYDAY=-1SU
END:STANDARD
END:VTIMEZONE
BEGIN:VEVENT
UID:4626108:Event:69434
DTSTAMP:20260420T112041Z
SUMMARY:Fabulous Women Late Breakfast, Guildford
DESCRIPTION:Fabulous Women Late Breakfast at Bar des Arts\n\nHi, I'm M
 ariette, the group leader for the Guildford Fabulous Women group. I lo
 ok forward to welcoming you!Our speaker this month is Marie Allen,from
  Webclarity, with a great talk: '5 Steps to a Super-Successful online 
 marketing strategy' and Lynn will give a demonstration of how to glori
 fy and dress up your table and house with flowers and more.....Â \nI
 f you have been wondering what benefits you will receive from being pa
 rt of this fabulous organisation, let me share with you just a few rea
 sons why coming to a Fabulous Women Netwinning meeting will be the bes
 t business decision you ever made:- Make new friends- Find customers, 
 suppliers and collaborators- Be inspired- Learn new skills- Our Agenda
  is the best mix between formal and informal networking - perfect for 
 the new, as well as the more experienced networker- Inspiring speakers
 ; a 'Hot Seat' or Mini-Coaching session; and 1-2-1's with a 'twist' wh
 ere we all work out ways in which we can potentially collaborate or su
 pport each other, even if it's simply by following each other on Twitt
 er etc.- The chance to make a one minute business pitch about who you 
 are, what you do and who you do it for and how we can help you. (Do no
 t worry about this if you are a little nervous, you can type it out an
 d read it if you wish! We do not judge, we just want to help you)- Wom
 en do business with men too, and Fabulous Women welcomes Marvellous Me
 n who are happy to network in our style. This means collaboration not 
 competition, and support not sell and we know that you are interested 
 in both personal and business development- You don't need to be a memb
 er to attend a Fabulous Women Netwinning meeting. You can attend up to
  three meetings as a guestWith all these benefits to being a part of t
 he Fabulous Women experience, how can you resist?! To attend, simply c
 onfirm your attendance by clicking on the blue \"Yes I'm Attending\" b
 utton on the right, so the venue can cater for you, then just pay the 
 attendance fee on arrival (cash only please!).Remember to bring your b
 usiness cards and marketing material and, if you sell products, bring 
 some samples for us to see.Feel free to contact me with any queries or
  for further information mariette.jansen.coaching@gmail.com\nCOST: £
 15 for Guests and £10 for FW members (cash only please!)\nBOOKING: P
 lease CLICK HERE to visit our website then click on the blue \"Yes I
 'm Attending\" button on the right\nMAP\n\nFor more information visit 
 https://networkinginsurrey.co.uk/events/fabulous-women-late-breakfast-
 guildford-16
DTSTART;TZID=Europe/London:20141118T093000
DTEND;TZID=Europe/London:20141118T113000
CATEGORIES:morning, guildford, netwinning, fabulous_women
LOCATION:Bar des Arts
WEBSITE:http://www.fabulous-women.co.uk/meetings-events/viewevent/1385
 -guildford?groupid=30
URL:http://www.fabulous-women.co.uk/meetings-events/viewevent/1385-gui
 ldford?groupid=30
CONTACT:07768 197507
ORGANIZER:Dr Mariette Jansen - Dr De-Stress
ATTACH;FMTTYPE="image/jpeg":http://storage.ning.com/topology/rest/1.0/
 file/get/2591437643?profile=original
ATTENDEE;ROLE=REQ-PARTICIPANT;PARTSTAT=ACCEPTED;RSVP=TRUE;CN="Jane Har
 dy":https://networkinginsurrey.co.uk/profile/JaneHardy
END:VEVENT
END:VCALENDAR
