BEGIN:VCALENDAR
PRODID:NingEventWidget-v1
VERSION:2.0
METHOD:PUBLISH
BEGIN:VTIMEZONE
TZID:Europe/London
X-LIC-LOCATION:Europe/London
BEGIN:DAYLIGHT
TZOFFSETFROM:+0000
TZOFFSETTO:+0100
TZNAME:BST
DTSTART:19700329T010000
RRULE:FREQ=YEARLY;BYMONTH=3;BYDAY=-1SU
END:DAYLIGHT
BEGIN:STANDARD
TZOFFSETFROM:+0100
TZOFFSETTO:+0000
TZNAME:GMT
DTSTART:19701025T020000
RRULE:FREQ=YEARLY;BYMONTH=10;BYDAY=-1SU
END:STANDARD
END:VTIMEZONE
BEGIN:VEVENT
UID:4626108:Event:119617
DTSTAMP:20260423T210814Z
SUMMARY:Fabulous Women Late Breakfast, Farnham
DESCRIPTION:Fabulous Women Late Breakfast at The Fox Inn\r\n\r\nHi, I'
 m Jenny Thomas, the group leader for the Farnham Fabulous Women group.
  I look forward to welcoming you!\r\nIf you have been wondering what b
 enefits you will receive from being part of this fabulous organisation
 , here are just a few reasons why coming to a Fabulous Women Netwinnin
 g meeting will be the best business decision you ever made:\r\n\r\nMak
 e new friends\r\nFind customers, suppliers and collaborators\r\nBe ins
 pired\r\nLearn new skills\r\n\r\nOur Agenda is the best mix between fo
 rmal and informal networking - perfect for the new, as well as more ex
 perienced networkers.\r\nWe have Inspiring speakers; a 'Hot Seat' or M
 ini-Coaching session; and 1-2-1's with a 'twist' where we all work out
  ways we can potentially collaborate or support each other, even if it
 's simply by following each other on Twitter etc. \r\nThis month's sp
 eaker is Mandy Dineley. Mandy is Group Leader at Fleet and she will be
  sharing some of her tips for getting more from your networking.\r\nYo
 u have the chance to make a one-minute business pitch about who you ar
 e, what you do and who you do it for and how we can help you. (If you 
 are a little nervous, you can type it out and read it if you wish! We 
 do not judge, we just want to help you).\r\nWomen do business with men
  too, and Fabulous Women welcomes Marvellous Men who are happy to netw
 ork in our style. This means collaboration not competition, and suppor
 t not sell and we know that you are interested in both personal and bu
 siness development.\r\nYou don't need to be a member to attend a Fabul
 ous Women Netwinning meeting. You can attend up to three meetings as a
  guest.\r\nWith all these benefits to being a part of the Fabulous Wom
 en experience, how can you resist?! To attend, simply confirm your att
 endance by clicking on the blue \"Yes I'm Attending\" button on the ri
 ght, so the venue can cater for you, then just pay the attendance fee 
 on arrival (cash only please!). \r\nRemember to bring your business c
 ards and marketing material and, if you sell products, bring some samp
 les for us to see.\r\nFeel free to contact me with any queries or for 
 further information  info@sally-annnorth.co.uk\r\nCOST: £10 for Gue
 sts and FW members (cash only please, on the door!)\r\nBOOKING: Pleas
 e CLICK HERE to visit our website then click on the pink \"Yes I'm A
 ttending\" button at the bottom\r\nMAP\r\n----------------------------
 -----\r\nFind other local Fabulous Women events here on Networking i
 n Surrey...\n\nFor more information visit https://networkinginsurrey.c
 o.uk/events/fabulous-women-late-breakfast-farnham-920
DTSTART;TZID=Europe/London:20190423T100000
DTEND;TZID=Europe/London:20190423T120000
CATEGORIES:morning, woking, netwinning, fabulous_women
LOCATION:The Fox Inn GU10 3PH
WEBSITE:
URL:
CONTACT:01252 716395
ORGANIZER:Jenny Thomas
ATTACH;FMTTYPE="image/jpeg":https://storage.ning.com/topology/rest/1.0
 /file/get/993868796?profile=original
ATTENDEE;ROLE=REQ-PARTICIPANT;PARTSTAT=ACCEPTED;RSVP=TRUE;CN="Keith Gr
 over, NiS Founder":https://networkinginsurrey.co.uk/profile/KeithGrove
 r
END:VEVENT
END:VCALENDAR
