BEGIN:VCALENDAR
PRODID:NingEventWidget-v1
VERSION:2.0
METHOD:PUBLISH
BEGIN:VTIMEZONE
TZID:Europe/London
X-LIC-LOCATION:Europe/London
BEGIN:DAYLIGHT
TZOFFSETFROM:+0000
TZOFFSETTO:+0100
TZNAME:BST
DTSTART:19700329T010000
RRULE:FREQ=YEARLY;BYMONTH=3;BYDAY=-1SU
END:DAYLIGHT
BEGIN:STANDARD
TZOFFSETFROM:+0100
TZOFFSETTO:+0000
TZNAME:GMT
DTSTART:19701025T020000
RRULE:FREQ=YEARLY;BYMONTH=10;BYDAY=-1SU
END:STANDARD
END:VTIMEZONE
BEGIN:VEVENT
UID:4626108:Event:302098
DTSTAMP:20260422T165338Z
SUMMARY:NEW TIME:Fabulous Women LUNCH, Farnham
DESCRIPTION:Fabulous Women LUNCH at The Fox Inn\r\n\r\nHi, I'm Jenny T
 homas, the group leader for the Farnham Fabulous Women group. I look f
 orward to welcoming you!\r\nIf you have been wondering what benefits y
 ou will receive from being part of this fabulous organisation, here ar
 e just a few reasons why coming to a Fabulous Women Netwinning meeting
  will be the best business decision you ever made:\r\n\r\nMake new fri
 ends\r\nFind customers, suppliers and collaborators\r\nBe inspired\r\n
 Learn new skills\r\n\r\nOur Agenda is the best mix between formal and 
 informal networking - perfect for the new, as well as more experienced
  networkers.\r\nWe have Inspiring speakers; a 'Hot Seat' or Mini-Coach
 ing session; and 1-2-1's with a 'twist' where we all work out ways we 
 can potentially collaborate or support each other, even if it's simply
  by following each other on Twitter etc. \r\nThis month our speaker i
 s Jacqui McGinn.\r\nYou have the chance to make a one-minute business 
 pitch about who you are, what you do and who you do it for and how we 
 can help you. (If you are a little nervous, you can type it out and re
 ad it if you wish! We do not judge, we just want to help you).\r\nWome
 n do business with men too, and Fabulous Women welcomes Marvellous Men
  who are happy to network in our style. This means collaboration not c
 ompetition, and support not sell and we know that you are interested i
 n both personal and business development.\r\nYou don't need to be a me
 mber to attend a Fabulous Women Netwinning meeting. You can attend up 
 to three meetings as a guest.\r\nWith all these benefits to being a pa
 rt of the Fabulous Women experience, how can you resist?! To attend, s
 imply confirm your attendance by clicking on the blue \"Yes I'm Attend
 ing\" button on the right, so the venue can cater for you, then just p
 ay the attendance fee on arrival (cash only please!). \r\nRemember to
  bring your business cards and marketing material and, if you sell pro
 ducts, bring some samples for us to see.\r\nFeel free to contact me wi
 th any queries or for further information  info@sally-annnorth.co.uk\
 r\nCOST: £10 for Guests and FW members (cash only please, on the do
 or!)\r\nBOOKING: Please CLICK HERE to visit our website then click o
 n the pink \"Yes I'm Attending\" button at the bottom\r\nMAP\r\n------
 ---------------------------\r\nFind other local Fabulous Women events
  here on Networking in Surrey...\n\nFor more information visit https:
 //networkinginsurrey.co.uk/events/fabulous-women-late-breakfast-farnha
 m-498
DTSTART;TZID=Europe/London:20200225T120000
DTEND;TZID=Europe/London:20200225T140000
CATEGORIES:morning, woking, netwinning, fabulous_women
LOCATION:The Fox Inn GU10 3PH
WEBSITE:
URL:
CONTACT:01252 716395
ORGANIZER:Jenny Thomas
ATTACH;FMTTYPE="image/jpeg":https://storage.ning.com/topology/rest/1.0
 /file/get/993868796?profile=original
ATTENDEE;ROLE=REQ-PARTICIPANT;PARTSTAT=ACCEPTED;RSVP=TRUE;CN="Keith Gr
 over, NiS Founder":https://networkinginsurrey.co.uk/profile/KeithGrove
 r
END:VEVENT
END:VCALENDAR
