BEGIN:VCALENDAR
PRODID:NingEventWidget-v1
VERSION:2.0
METHOD:PUBLISH
BEGIN:VTIMEZONE
TZID:Europe/London
X-LIC-LOCATION:Europe/London
BEGIN:DAYLIGHT
TZOFFSETFROM:+0000
TZOFFSETTO:+0100
TZNAME:BST
DTSTART:19700329T010000
RRULE:FREQ=YEARLY;BYMONTH=3;BYDAY=-1SU
END:DAYLIGHT
BEGIN:STANDARD
TZOFFSETFROM:+0100
TZOFFSETTO:+0000
TZNAME:GMT
DTSTART:19701025T020000
RRULE:FREQ=YEARLY;BYMONTH=10;BYDAY=-1SU
END:STANDARD
END:VTIMEZONE
BEGIN:VEVENT
UID:4626108:Event:100793
DTSTAMP:20260424T163011Z
SUMMARY:Fabulous Women Late Breakfast, Farnham
DESCRIPTION:Fabulous Women Late Breakfast at The Fox Inn\r\n\r\nHi, I'
 m Jenny Thomas, the group leader for the Farnham Fabulous Women group.
  I look forward to welcoming you!\r\nIf you have been wondering what b
 enefits you will receive from being part of this fabulous organisation
 , here are just a few reasons why coming to a Fabulous Women Netwinnin
 g meeting will be the best business decision you ever made:\r\n\r\nMak
 e new friends\r\nFind customers, suppliers and collaborators\r\nBe ins
 pired\r\nLearn new skills\r\n\r\nOur Agenda is the best mix between fo
 rmal and informal networking - perfect for the new, as well as more ex
 perienced networkers.\r\nWe have Inspiring speakers; a 'Hot Seat' or M
 ini-Coaching session; and 1-2-1's with a 'twist' where we all work out
  ways we can potentially collaborate or support each other, even if it
 's simply by following each other on Twitter etc. \r\nOur speaker thi
 s month is Holly Budge, adventurer and conservationist recently return
 ed from Africa where she went on tour with the Black Mambas in her con
 tinued efforts to save elephants - more details here....\r\nYou have t
 he chance to make a one-minute business pitch about who you are, what 
 you do and who you do it for and how we can help you. (If you are a li
 ttle nervous, you can type it out and read it if you wish! We do not j
 udge, we just want to help you).\r\nWomen do business with men too, an
 d Fabulous Women welcomes Marvellous Men who are happy to network in o
 ur style. This means collaboration not competition, and support not se
 ll and we know that you are interested in both personal and business d
 evelopment.\r\nYou don't need to be a member to attend a Fabulous Wome
 n Netwinning meeting. You can attend up to three meetings as a guest.\
 r\nWith all these benefits to being a part of the Fabulous Women exper
 ience, how can you resist?! To attend, simply confirm your attendance 
 by clicking on the blue \"Yes I'm Attending\" button on the right, so 
 the venue can cater for you, then just pay the attendance fee on arriv
 al (cash only please!). \r\nRemember to bring your business cards and
  marketing material and, if you sell products, bring some samples for 
 us to see.  Feel free to contact me with any queries or for further in
 formation  info@sally-annnorth.co.uk\r\nCOST: £10 for Guests and FW
  members (cash only please, on the door!)\r\nBOOKING: Please CLICK HE
 RE to visit our website then click on the pink \"Yes I'm Attending\"
  button at the bottom\r\nMAP\r\n---------------------------------\r\nF
 ind other local Fabulous Women events here on Networking in Surrey..
 .\n\nFor more information visit https://networkinginsurrey.co.uk/event
 s/fabulous-women-late-breakfast-farnham-26
DTSTART;TZID=Europe/London:20180925T100000
DTEND;TZID=Europe/London:20180925T120000
CATEGORIES:morning, woking, netwinning, fabulous_women
LOCATION:The Fox Inn GU10 3PH
WEBSITE:
URL:
CONTACT:01252 716395
ORGANIZER:Jenny Thomas
ATTACH;FMTTYPE="image/jpeg":http://storage.ning.com/topology/rest/1.0/
 file/get/1179757333?profile=original
ATTENDEE;ROLE=REQ-PARTICIPANT;PARTSTAT=ACCEPTED;RSVP=TRUE;CN="Keith Gr
 over, NiS Founder":https://networkinginsurrey.co.uk/profile/KeithGrove
 r
END:VEVENT
END:VCALENDAR
