BEGIN:VCALENDAR
PRODID:NingEventWidget-v1
VERSION:2.0
METHOD:PUBLISH
BEGIN:VTIMEZONE
TZID:Europe/London
X-LIC-LOCATION:Europe/London
BEGIN:DAYLIGHT
TZOFFSETFROM:+0000
TZOFFSETTO:+0100
TZNAME:BST
DTSTART:19700329T010000
RRULE:FREQ=YEARLY;BYMONTH=3;BYDAY=-1SU
END:DAYLIGHT
BEGIN:STANDARD
TZOFFSETFROM:+0100
TZOFFSETTO:+0000
TZNAME:GMT
DTSTART:19701025T020000
RRULE:FREQ=YEARLY;BYMONTH=10;BYDAY=-1SU
END:STANDARD
END:VTIMEZONE
BEGIN:VEVENT
UID:4626108:Event:69624
DTSTAMP:20260421T135507Z
SUMMARY:Fabulous Women Late Breakfast, Esher/Oxshott
DESCRIPTION:Fabulous Women Late Breakfast at The Bear\n\nHi, I am Leon
 ie, the group leader for the Esher/Oxshott Fabulous Women group. I loo
 k forward to welcoming you!________________________Our speakers this m
 onth is are John Edward from Bestmorgage4you who will give advice on h
 ow to best sell your house and Sarah Lott from the Memory Book._______
 __________________If you have been wondering what benefits you will re
 ceive from being part of this fabulous organisation, let me share with
  you just a few reasons why coming to a Fabulous Women Netwinning meet
 ing will be the best business decision you ever made:- Make new friend
 s- Find customers, suppliers and collaborators- Be inspired- Learn new
  skills- Our Agenda is the best mix between formal and informal networ
 king - perfect for the new, as well as the more experienced networker-
  Inspiring speakers; a 'Hot Seat' or Mini-Coaching session; and 1-2-1'
 s with a 'twist' where we all work out ways in which we can potentiall
 y collaborate or support each other, even if it's simply by following 
 each other on Twitter etc.- The chance to make a one minute business p
 itch about who you are, what you do and who you do it for and how we c
 an help you. (Do not worry about this if you are a little nervous, you
  can type it out and read it if you wish! We do not judge, we just wan
 t to help you)- Women do business with men too, and Fabulous Women wel
 comes Marvellous Men who are happy to network in our style. This means
  collaboration not competition, and support not sell and we know that 
 you are interested in both personal and business development- You don'
 t need to be a member to attend a Fabulous Women Netwinning meeting. Y
 ou can attend up to three meetings as a guestWith all these benefits t
 o being a part of the Fabulous Women experience, how can you resist?! 
 To attend, simply confirm your attendance by clicking on the blue \"Ye
 s I'm Attending\" button on the right, so the venue can cater for you,
  then just pay the attendance fee on arrival (cash only please!).Remem
 ber to bring your business cards and marketing material and, if you se
 ll products, bring some samples for us to see.Feel free to contact me 
 with any queries or for further information leonie@eatwright.co.uk\nCO
 ST: £15 for Guests and £10 for FW members (cash only please!)\nBOO
 KING: Please CLICK HERE to visit our website then click on the blue 
 \"Yes I'm Attending\" button on the right\nMAP\n\nFor more information
  visit https://networkinginsurrey.co.uk/events/fabulous-women-late-bre
 akfast-esher-oxshott-10
DTSTART;TZID=Europe/London:20141127T093000
DTEND;TZID=Europe/London:20141127T113000
CATEGORIES:networking, fabulous-women, esher, oxshott, morning
LOCATION:The Bear
WEBSITE:http://www.fabulous-women.co.uk/meetings-events/viewevent/1356
 -esher-oxshott?groupid=30
URL:http://www.fabulous-women.co.uk/meetings-events/viewevent/1356-esh
 er-oxshott?groupid=30
CONTACT:07768 197507
ORGANIZER:Leonie Wright
ATTACH;FMTTYPE="image/jpeg":http://storage.ning.com/topology/rest/1.0/
 file/get/2591436863?profile=original
ATTENDEE;ROLE=REQ-PARTICIPANT;PARTSTAT=ACCEPTED;RSVP=TRUE;CN="Jane Har
 dy":https://networkinginsurrey.co.uk/profile/JaneHardy
END:VEVENT
END:VCALENDAR
