BEGIN:VCALENDAR
PRODID:NingEventWidget-v1
VERSION:2.0
METHOD:PUBLISH
BEGIN:VTIMEZONE
TZID:Europe/London
X-LIC-LOCATION:Europe/London
BEGIN:DAYLIGHT
TZOFFSETFROM:+0000
TZOFFSETTO:+0100
TZNAME:BST
DTSTART:19700329T010000
RRULE:FREQ=YEARLY;BYMONTH=3;BYDAY=-1SU
END:DAYLIGHT
BEGIN:STANDARD
TZOFFSETFROM:+0100
TZOFFSETTO:+0000
TZNAME:GMT
DTSTART:19701025T020000
RRULE:FREQ=YEARLY;BYMONTH=10;BYDAY=-1SU
END:STANDARD
END:VTIMEZONE
BEGIN:VEVENT
UID:4626108:Event:98310
DTSTAMP:20260422T193253Z
SUMMARY:Fabulous Women Late Breakfast, Cobham
DESCRIPTION:Fabulous Women Cobham at The Long Barn\r\nCan you join us 
 for an uplifting morning of business networking in a warm but professi
 onal environment? I’m Gilles Pelenc and I look forward to welcoming 
 you.\r\n\r\nOur agenda typically includes:\r\n\r\nInformal networking\
 r\nA networking tip\r\nA business card shuffle\r\nA one minute introdu
 ction round\r\nSpeaker who this month is\r\nBusiness development slot\
 r\n\r\nWe encourage you to prepare a one minute introduction to you an
 d your business. If this makes you nervous please feel free to read yo
 ur prepared script.\r\nIt really helps if you can book so please click
  on the link before (and if you are a member please remember to login 
 first so you don’t have to retype all your details). Remember to bri
 ng plenty of business cards and marketing material and your £10 meeti
 ng fee. Visitors are welcome to attend two Fabulous Women and Marvello
 us Men meetings before joining.\r\nThis month's speaker will be announ
 ced shortly.\r\nThis group meets on the first Friday of each month. We
  look forward to meeting you.\r\nCOST: £10 for Guests and FW member
 s (cash only please, on the door!)\r\nBOOKING: Please CLICK HERE to 
 visit our website then click on the pink \"Yes I'm Attending\" button
  at the bottom - or for more info please call Gilles on 07877 498845
   or email gilles@gillespelenc.com\r\nMAP\r\n------------------------
 -------------------\r\nFabulous Women & Marvellous Men\r\nRefreshingly
  different networking with, as ethos, connect, collaborate, support a
 nd succeed.  To learn more about FWMM: https://fabulous-women.co.uk/
 about \r\nFind other local Fabulous Women events here on Networking
  in Surrey...\n\nFor more information visit https://networkinginsurrey
 .co.uk/events/fabulous-women-late-breakfast-cobham
DTSTART;TZID=Europe/London:20180601T100000
DTEND;TZID=Europe/London:20180601T120000
CATEGORIES:business, networking, morning
LOCATION:Accrue Workplaces The Long Barn KT11 3NE
WEBSITE:https://fabulous-women.co.uk/event/detail_3010
URL:https://fabulous-women.co.uk/event/detail_3010
CONTACT:07877 498845
ORGANIZER:Gilles Pelenc
ATTACH;FMTTYPE="image/jpeg":http://storage.ning.com/topology/rest/1.0/
 file/get/1179757333?profile=original
ATTENDEE;ROLE=REQ-PARTICIPANT;PARTSTAT=ACCEPTED;RSVP=TRUE;CN="Keith Gr
 over, NiS Founder":https://networkinginsurrey.co.uk/profile/KeithGrove
 r
END:VEVENT
END:VCALENDAR
