BEGIN:VCALENDAR
PRODID:NingEventWidget-v1
VERSION:2.0
METHOD:PUBLISH
BEGIN:VTIMEZONE
TZID:Europe/London
X-LIC-LOCATION:Europe/London
BEGIN:DAYLIGHT
TZOFFSETFROM:+0000
TZOFFSETTO:+0100
TZNAME:BST
DTSTART:19700329T010000
RRULE:FREQ=YEARLY;BYMONTH=3;BYDAY=-1SU
END:DAYLIGHT
BEGIN:STANDARD
TZOFFSETFROM:+0100
TZOFFSETTO:+0000
TZNAME:GMT
DTSTART:19701025T020000
RRULE:FREQ=YEARLY;BYMONTH=10;BYDAY=-1SU
END:STANDARD
END:VTIMEZONE
BEGIN:VEVENT
UID:4626108:Event:100556
DTSTAMP:20260422T083352Z
SUMMARY:Fabulous Women Late Breakfast, Cobham
DESCRIPTION:Fabulous Women Cobham at The Long Barn\nCan you join us fo
 r an uplifting morning of business networking in a warm but profession
 al environment? I’m Gilles Pelenc and I look forward to welcoming yo
 u.\n\nOur agenda typically includes:\n\nInformal networking\nA network
 ing tip\nA business card shuffle\nA one minute introduction round\nSpe
 aker who this month is\nBusiness development slot\n\nWe encourage you 
 to prepare a one minute introduction to you and your business. If this
  makes you nervous please feel free to read your prepared script.\nIt 
 really helps if you can book so please click on the link before (and i
 f you are a member please remember to login first so you don’t have 
 to retype all your details). Remember to bring plenty of business card
 s and marketing material and your £10 meeting fee. Visitors are welco
 me to attend two Fabulous Women and Marvellous Men meetings before joi
 ning.\nThis month our speaker is Simon Hale with '4 Steps to sales suc
 cess'.\nThis group meets on the first Friday of each month. We look fo
 rward to meeting you.\nCOST: £10 for Guests and FW members (cash o
 nly please, on the door!)\nBOOKING: Please CLICK HERE to visit our we
 bsite then click on the pink \"Yes I'm Attending\" button at the bott
 om - or for more info please call Gilles on 07877 498845  or email 
 gilles@gillespelenc.com\nMAP\nDIRECTIONS: On your Sat Nav, you may thi
 nk it is taking you in the middle of a field… and it is not far off 
 to be honest!\nLeave Cobham opposite Waitrose onto Downside Bridge Ro
 ad.\nPass the church (on your right) and car park (on your left), The 
 Plough and the Medicine Gardens (on your right) and then take the fir
 st left onto Cobham Park Road.\nAfter a few hundred yards, on a right
 -hand bend, take what looks like the entrance to a country estate. Be 
 warned, the speed bumps are quite massive.\nAt the end of the road, tu
 rn right and then keep right and go down hill towards the main buildin
 gs. The Long Barn is the larger building there (follow the TLB signs)
 . \n-------------------------------------------\nFabulous Women & Mar
 vellous Men\nTo learn more about FWMM please visit our website here..
 .\nFind other local Fabulous Women events here on Networking in Surr
 ey...\n\nFor more information visit https://networkinginsurrey.co.uk/e
 vents/fabulous-women-late-breakfast-cobham-2
DTSTART;TZID=Europe/London:20181005T100000
DTEND;TZID=Europe/London:20181005T120000
CATEGORIES:business, networking, morning
LOCATION:Accrue Workplaces The Long Barn KT11 3NE
WEBSITE:https://fabulous-women.co.uk/event/detail_3010
URL:https://fabulous-women.co.uk/event/detail_3010
CONTACT:07877 498845
ORGANIZER;CN="Gilles Pelenc":https://networkinginsurrey.co.uk/profile/
 GillesPelenc
ATTACH;FMTTYPE="image/jpeg":http://storage.ning.com/topology/rest/1.0/
 file/get/1179757333?profile=original
ATTENDEE;ROLE=REQ-PARTICIPANT;PARTSTAT=ACCEPTED;RSVP=TRUE;CN="Gilles P
 elenc":https://networkinginsurrey.co.uk/profile/GillesPelenc
END:VEVENT
END:VCALENDAR
