BEGIN:VCALENDAR
PRODID:NingEventWidget-v1
VERSION:2.0
METHOD:PUBLISH
BEGIN:VTIMEZONE
TZID:Europe/London
X-LIC-LOCATION:Europe/London
BEGIN:DAYLIGHT
TZOFFSETFROM:+0000
TZOFFSETTO:+0100
TZNAME:BST
DTSTART:19700329T010000
RRULE:FREQ=YEARLY;BYMONTH=3;BYDAY=-1SU
END:DAYLIGHT
BEGIN:STANDARD
TZOFFSETFROM:+0100
TZOFFSETTO:+0000
TZNAME:GMT
DTSTART:19701025T020000
RRULE:FREQ=YEARLY;BYMONTH=10;BYDAY=-1SU
END:STANDARD
END:VTIMEZONE
BEGIN:VEVENT
UID:4626108:Event:263281
DTSTAMP:20260422T054455Z
SUMMARY:Fabulous Women Late Breakfast, Camberley
DESCRIPTION:Fabulous Women Late Breakfast at the Crabtree, Camberley\
 r\n\r\n\r\nHello, I'm Adam Buttery and I would be delighted to welcome
  you to our next meeting. We're a friendly group and our meetings are 
 structured but informal and invariably attendees leave energised, insp
 ired and supported. Why not join us? The attendance fee of £10 includ
 es a hot drink and light refreshments and the opportunity to make a pi
 tch for business in our 60 second round. Visitors may attend up to 2 F
 abulous Networking meetings before being required to join.\r\nOur spea
 ker this month will be confirmed shortly...\r\nPlease click on the 'PI
 NK' YES I'M ATTENDING button below\r\nThe agenda may change slightly o
 n the day depending upon numbers attending and their needs but typical
 ly includes:\r\n\r\nInformal networking\r\nOne minute round (we have n
 o problem with you reading your prepared script if you wish)\r\nSpeake
 r/s\r\nBusiness development slot\r\nFuture dates etc.\r\n\r\nBring lot
 s of business cards, any marketing materials and, if you have products
 , feel free to bring samples to showcase on our display table.\r\nI lo
 ok forward to seeing you.\r\nCOST: £10 for Guests and FW members (c
 ash only please, on the door!)\r\nBOOKING: Please CLICK HERE to visit
  our website then click on the pink \"Yes I'm Attending\" button at t
 he bottom\r\nMAP \r\n---------------------------------\r\nFind other 
 local Fabulous Women events here on Networking in Surrey...\n\nFor mo
 re information visit https://networkinginsurrey.co.uk/events/fabulous-
 women-late-breakfast-camberley-910
DTSTART;TZID=Europe/London:20191205T100000
DTEND;TZID=Europe/London:20191205T120000
CATEGORIES:morning, camberley, netwinning, fabulous_women
LOCATION:The Crabtree GU15 2QJ
WEBSITE:
URL:
CONTACT:
ORGANIZER:Adam Buttery
ATTACH;FMTTYPE="image/jpeg":https://storage.ning.com/topology/rest/1.0
 /file/get/627448272?profile=original
ATTENDEE;ROLE=REQ-PARTICIPANT;PARTSTAT=ACCEPTED;RSVP=TRUE;CN="Keith Gr
 over, NiS Founder":https://networkinginsurrey.co.uk/profile/KeithGrove
 r
END:VEVENT
END:VCALENDAR
