BEGIN:VCALENDAR
PRODID:NingEventWidget-v1
VERSION:2.0
METHOD:PUBLISH
BEGIN:VTIMEZONE
TZID:Europe/London
X-LIC-LOCATION:Europe/London
BEGIN:DAYLIGHT
TZOFFSETFROM:+0000
TZOFFSETTO:+0100
TZNAME:BST
DTSTART:19700329T010000
RRULE:FREQ=YEARLY;BYMONTH=3;BYDAY=-1SU
END:DAYLIGHT
BEGIN:STANDARD
TZOFFSETFROM:+0100
TZOFFSETTO:+0000
TZNAME:GMT
DTSTART:19701025T020000
RRULE:FREQ=YEARLY;BYMONTH=10;BYDAY=-1SU
END:STANDARD
END:VTIMEZONE
BEGIN:VEVENT
UID:4626108:Event:97828
DTSTAMP:20260422T191510Z
SUMMARY:Fabulous Women Late Breakfast, Camberley
DESCRIPTION:Fabulous Women Late Breakfast at Regus Quatro House, Cambe
 rley\r\n\r\nHi, I'mÂ  Michelle Donoghue, the group leader for theÂ Cam
 berley Fabulous WomenÂ group. I look forward to welcoming you!\r\nHere
  are just a few reasons why coming to a Fabulous Women Netwinning meet
 ing will be the best business decision you ever made:\r\n\r\nMake new 
 friends\r\nFind customers, suppliers and collaborators\r\nBe inspired\
 r\nLearn new skills\r\n\r\nOur AgendaÂ is the best mix between formal 
 and informal networking - perfect for the new, as well as the more exp
 erienced networker.\r\nWe have Inspiring speakers; a 'Hot Seat' or Min
 i-Coaching session; and 1-2-1's with a 'twist' where we all work out w
 ays in which we can potentially collaborate or support each other, eve
 n if it's simply by following each other on Twitter etc.Â Â This month
 's speaker will be announced shortly...\r\nYou have the chance to make
  a one-minute business pitchÂ about who you are, what you do and who y
 ou do it for and how we can help you. (Do not worry about this if you 
 are a little nervous, you can type it out and read it if you wish! We 
 do not judge, we just want to help you).\r\nWomen do business with men
  too, and Fabulous Women welcomesÂ Marvellous MenÂ who are happy to ne
 twork in our style. This means collaboration not competition, and supp
 ort not sell and we know that you are interested in both personal and 
 business development.\r\nYou don't need to be a memberÂ to attend a Fa
 bulous Women Netwinning meeting. You can attend up to three meetings a
 s a guest.\r\nWith all these benefits to being a part of the Fabulous 
 Women experience, how can you resist?!Â To attend, simply confirm your
  attendance by clicking on the blue \"Yes I'm Attending\" button on th
 e right, so the venue can cater for you, then just pay the attendance 
 fee on arrival (cash only please!).\r\nPlease remember to bring your b
 usiness cards and marketing material and, if you sell products, bring 
 some samples for us to see.\r\nCOST:Â Â£10Â for Guests and FW membersÂ
  (cash only please, on the door!)\r\nBOOKING:Â PleaseÂ CLICK HEREÂ to 
 visit our website thenÂ click on the pink \"Yes I'm Attending\" button
  at the bottom\r\nMAP \r\n---------------------------------\r\nFind ot
 herÂ local Fabulous Women events hereÂ on Networking in Surrey...\n\nF
 or more information visit https://networkinginsurrey.co.uk/events/fabu
 lous-women-late-breakfast-camberley-27
DTSTART;TZID=Europe/London:20180503T100000
DTEND;TZID=Europe/London:20180503T120000
CATEGORIES:morning, camberley, netwinning, fabulous_women
LOCATION:Regus Quatro House GU16 7ER
WEBSITE:
URL:
CONTACT:
ORGANIZER:Michelle Donoghue
ATTACH;FMTTYPE="image/jpeg":http://storage.ning.com/topology/rest/1.0/
 file/get/1179757333?profile=original
ATTENDEE;ROLE=REQ-PARTICIPANT;PARTSTAT=ACCEPTED;RSVP=TRUE;CN="Jane Har
 dy":https://networkinginsurrey.co.uk/profile/JaneHardy
END:VEVENT
END:VCALENDAR
