BEGIN:VCALENDAR
PRODID:NingEventWidget-v1
VERSION:2.0
METHOD:PUBLISH
BEGIN:VTIMEZONE
TZID:Europe/London
X-LIC-LOCATION:Europe/London
BEGIN:DAYLIGHT
TZOFFSETFROM:+0000
TZOFFSETTO:+0100
TZNAME:BST
DTSTART:19700329T010000
RRULE:FREQ=YEARLY;BYMONTH=3;BYDAY=-1SU
END:DAYLIGHT
BEGIN:STANDARD
TZOFFSETFROM:+0100
TZOFFSETTO:+0000
TZNAME:GMT
DTSTART:19701025T020000
RRULE:FREQ=YEARLY;BYMONTH=10;BYDAY=-1SU
END:STANDARD
END:VTIMEZONE
BEGIN:VEVENT
UID:4626108:Event:95436
DTSTAMP:20260423T005802Z
SUMMARY:NEW VENUE: Fabulous Women Late Breakfast, Camberley
DESCRIPTION:Fabulous Women Late Breakfast at Regus Quatro House, Cambe
 rley\r\n\r\nHi, I'm Jane Hardy, the group leader for the Camberley F
 abulous Women group. I look forward to welcoming you!\r\nHere are jus
 t a few reasons why coming to a Fabulous Women Netwinning meeting will
  be the best business decision you ever made:\r\n\r\nMake new friends\
 r\nFind customers, suppliers and collaborators\r\nBe inspired\r\nLearn
  new skills\r\n\r\nOur Agenda is the best mix between formal and info
 rmal networking - perfect for the new, as well as the more experienced
  networker.\r\nWe have Inspiring speakers; a 'Hot Seat' or Mini-Coachi
 ng session; and 1-2-1's with a 'twist' where we all work out ways in w
 hich we can potentially collaborate or support each other, even if it'
 s simply by following each other on Twitter etc. Our speaker this mon
 th will be announced shortly...\r\nYou have the chance to make a one-m
 inute business pitch about who you are, what you do and who you do it
  for and how we can help you. (Do not worry about this if you are a li
 ttle nervous, you can type it out and read it if you wish! We do not j
 udge, we just want to help you).\r\nWomen do business with men too, an
 d Fabulous Women welcomes Marvellous Men who are happy to network in
  our style. This means collaboration not competition, and support not 
 sell and we know that you are interested in both personal and business
  development.\r\nYou don't need to be a member to attend a Fabulous W
 omen Netwinning meeting. You can attend up to three meetings as a gues
 t.\r\nWith all these benefits to being a part of the Fabulous Women ex
 perience, how can you resist?! To attend, simply confirm your attenda
 nce by clicking on the blue \"Yes I'm Attending\" button on the right,
  so the venue can cater for you, then just pay the attendance fee on a
 rrival (cash only please!).\r\nPlease remember to bring your business 
 cards and marketing material and, if you sell products, bring some sam
 ples for us to see.\r\nCOST: £10 for Guests and FW members (cash o
 nly please, on the door!)\r\nBOOKING: Please CLICK HERE to visit ou
 r website then click on the pink \"Yes I'm Attending\" button at the 
 bottom\r\nMAP \r\n---------------------------------\r\nFind other loc
 al Fabulous Women events here on Networking in Surrey...\n\nFor more 
 information visit https://networkinginsurrey.co.uk/events/fabulous-wom
 en-late-breakfast-camberley-25
DTSTART;TZID=Europe/London:20180201T100000
DTEND;TZID=Europe/London:20180201T120000
CATEGORIES:morning, camberley, netwinning, fabulous_women
LOCATION:Regus Quatro House GU16 7ER
WEBSITE:
URL:
CONTACT:
ORGANIZER;CN="Jane Hardy":https://networkinginsurrey.co.uk/profile/Jan
 eHardy
ATTACH;FMTTYPE="image/jpeg":http://storage.ning.com/topology/rest/1.0/
 file/get/1179757333?profile=original
ATTENDEE;ROLE=REQ-PARTICIPANT;PARTSTAT=ACCEPTED;RSVP=TRUE;CN="Jane Har
 dy":https://networkinginsurrey.co.uk/profile/JaneHardy
END:VEVENT
END:VCALENDAR
