BEGIN:VCALENDAR
PRODID:NingEventWidget-v1
VERSION:2.0
METHOD:PUBLISH
BEGIN:VTIMEZONE
TZID:Europe/London
X-LIC-LOCATION:Europe/London
BEGIN:DAYLIGHT
TZOFFSETFROM:+0000
TZOFFSETTO:+0100
TZNAME:BST
DTSTART:19700329T010000
RRULE:FREQ=YEARLY;BYMONTH=3;BYDAY=-1SU
END:DAYLIGHT
BEGIN:STANDARD
TZOFFSETFROM:+0100
TZOFFSETTO:+0000
TZNAME:GMT
DTSTART:19701025T020000
RRULE:FREQ=YEARLY;BYMONTH=10;BYDAY=-1SU
END:STANDARD
END:VTIMEZONE
BEGIN:VEVENT
UID:4626108:Event:101330
DTSTAMP:20260421T210139Z
SUMMARY:Fabulous Women Late Breakfast, Camberley
DESCRIPTION:Fabulous Women Late Breakfast at the Crabtree, Camberley\
 r\n\r\n\r\nHi, I'm Tracy Hooper, the group leader for the Camberley Fa
 bulous Women group. I look forward to welcoming you!\r\nHere are just 
 a few reasons why coming to a Fabulous Women Netwinning meeting will b
 e the best business decision you ever made:\r\n\r\nMake new friends\r\
 nFind customers, suppliers and collaborators\r\nBe inspired\r\nLearn n
 ew skills\r\n\r\nOur Agenda is the best mix between formal and inform
 al networking - perfect for the new, as well as the more experienced n
 etworker.\r\nWe have Inspiring speakers; a 'Hot Seat' or Mini-Coaching
  session; and 1-2-1's with a 'twist' where we all work out ways in whi
 ch we can potentially collaborate or support each other, even if it's 
 simply by following each other on Twitter etc. This month our speaker 
 is Chris Waters whose talk is entitled 'Are you underselling yourself?
  How to get pricing right in your business'.\r\nYou have the chance to
  make a one-minute business pitch about who you are, what you do and 
 who you do it for and how we can help you. (Do not worry about this if
  you are a little nervous, you can type it out and read it if you wish
 ! We do not judge, we just want to help you).\r\nWomen do business wit
 h men too, and Fabulous Women welcomes Marvellous Men who are happy 
 to network in our style. This means collaboration not competition, and
  support not sell and we know that you are interested in both personal
  and business development.\r\nYou don't need to be a member to attend
  a Fabulous Women Netwinning meeting. You can attend up to three meeti
 ngs as a guest.\r\nWith all these benefits to being a part of the Fabu
 lous Women experience, how can you resist?! To attend, simply confirm
  your attendance by clicking on the blue \"Yes I'm Attending\" button 
 on the right, so the venue can cater for you, then just pay the attend
 ance fee on arrival (cash only please!).  Remember to bring your busin
 ess cards and marketing material and, if you sell products, bring some
  samples for us to see.\r\nCOST: £10 for Guests and FW members (cas
 h only please, on the door!)\r\nBOOKING: Please CLICK HERE to visit o
 ur website then click on the pink \"Yes I'm Attending\" button at the
  bottom\r\nMAP \r\n---------------------------------\r\nFind other lo
 cal Fabulous Women events here on Networking in Surrey...\n\nFor more
  information visit https://networkinginsurrey.co.uk/events/fabulous-wo
 men-late-breakfast-camberley-12
DTSTART;TZID=Europe/London:20181101T100000
DTEND;TZID=Europe/London:20181101T120000
CATEGORIES:morning, camberley, netwinning, fabulous_women
LOCATION:The Crabtree GU15 2QJ
WEBSITE:
URL:
CONTACT:
ORGANIZER:Jane Hardy
ATTACH;FMTTYPE="image/jpeg":https://storage.ning.com/topology/rest/1.0
 /file/get/627448272?profile=original
ATTENDEE;ROLE=REQ-PARTICIPANT;PARTSTAT=ACCEPTED;RSVP=TRUE;CN="Keith Gr
 over, NiS Founder":https://networkinginsurrey.co.uk/profile/KeithGrove
 r
END:VEVENT
END:VCALENDAR
