BEGIN:VCALENDAR
PRODID:NingEventWidget-v1
VERSION:2.0
METHOD:PUBLISH
BEGIN:VTIMEZONE
TZID:Europe/London
X-LIC-LOCATION:Europe/London
BEGIN:DAYLIGHT
TZOFFSETFROM:+0000
TZOFFSETTO:+0100
TZNAME:BST
DTSTART:19700329T010000
RRULE:FREQ=YEARLY;BYMONTH=3;BYDAY=-1SU
END:DAYLIGHT
BEGIN:STANDARD
TZOFFSETFROM:+0100
TZOFFSETTO:+0000
TZNAME:GMT
DTSTART:19701025T020000
RRULE:FREQ=YEARLY;BYMONTH=10;BYDAY=-1SU
END:STANDARD
END:VTIMEZONE
BEGIN:VEVENT
UID:4626108:Event:101034
DTSTAMP:20260422T043354Z
SUMMARY:Fabulous Women Late Breakfast, Camberley
DESCRIPTION:Fabulous Women Late Breakfast at Regus Quatro House, Cambe
 rley\r\n\r\nHi, I'm  Michelle Donoghue, the group leader for the Cam
 berley Fabulous Women group. I look forward to welcoming you!\r\nHere
  are just a few reasons why coming to a Fabulous Women Netwinning meet
 ing will be the best business decision you ever made:\r\n\r\nMake new 
 friends\r\nFind customers, suppliers and collaborators\r\nBe inspired\
 r\nLearn new skills\r\n\r\nOur Agenda is the best mix between formal 
 and informal networking - perfect for the new, as well as the more exp
 erienced networker.\r\nWe have Inspiring speakers; a 'Hot Seat' or Min
 i-Coaching session; and 1-2-1's with a 'twist' where we all work out w
 ays in which we can potentially collaborate or support each other, eve
 n if it's simply by following each other on Twitter etc.  Our speaker
  this month is John Edward whose talk is entitled 'Lasting powers of a
 ttorney'.\r\nYou have the chance to make a one-minute business pitch 
 about who you are, what you do and who you do it for and how we can he
 lp you. (Do not worry about this if you are a little nervous, you can 
 type it out and read it if you wish! We do not judge, we just want to 
 help you).\r\nWomen do business with men too, and Fabulous Women welco
 mes Marvellous Men who are happy to network in our style. This means
  collaboration not competition, and support not sell and we know that 
 you are interested in both personal and business development.\r\nYou d
 on't need to be a member to attend a Fabulous Women Netwinning meetin
 g. You can attend up to three meetings as a guest.\r\nWith all these b
 enefits to being a part of the Fabulous Women experience, how can you 
 resist?! To attend, simply confirm your attendance by clicking on the
  blue \"Yes I'm Attending\" button on the right, so the venue can cate
 r for you, then just pay the attendance fee on arrival (cash only plea
 se!).\r\nPlease remember to bring your business cards and marketing ma
 terial and, if you sell products, bring some samples for us to see.\r\
 nCOST: £10 for Guests and FW members (cash only please, on the doo
 r!)\r\nBOOKING: Please CLICK HERE to visit our website then click 
 on the pink \"Yes I'm Attending\" button at the bottom\r\nMAP \r\n----
 -----------------------------\r\nFind other local Fabulous Women even
 ts here on Networking in Surrey...\n\nFor more information visit http
 s://networkinginsurrey.co.uk/events/fabulous-women-late-breakfast-camb
 erley-11
DTSTART;TZID=Europe/London:20181004T100000
DTEND;TZID=Europe/London:20181004T120000
CATEGORIES:morning, camberley, netwinning, fabulous_women
LOCATION:Regus Quatro House GU16 7ER
WEBSITE:
URL:
CONTACT:
ORGANIZER:Michelle Donoghue
ATTACH;FMTTYPE="image/jpeg":http://storage.ning.com/topology/rest/1.0/
 file/get/1179757333?profile=original
ATTENDEE;ROLE=REQ-PARTICIPANT;PARTSTAT=ACCEPTED;RSVP=TRUE;CN="Keith Gr
 over, NiS Founder":https://networkinginsurrey.co.uk/profile/KeithGrove
 r
END:VEVENT
END:VCALENDAR
