BEGIN:VCALENDAR
PRODID:NingEventWidget-v1
VERSION:2.0
METHOD:PUBLISH
BEGIN:VTIMEZONE
TZID:Europe/London
X-LIC-LOCATION:Europe/London
BEGIN:DAYLIGHT
TZOFFSETFROM:+0000
TZOFFSETTO:+0100
TZNAME:BST
DTSTART:19700329T010000
RRULE:FREQ=YEARLY;BYMONTH=3;BYDAY=-1SU
END:DAYLIGHT
BEGIN:STANDARD
TZOFFSETFROM:+0100
TZOFFSETTO:+0000
TZNAME:GMT
DTSTART:19701025T020000
RRULE:FREQ=YEARLY;BYMONTH=10;BYDAY=-1SU
END:STANDARD
END:VTIMEZONE
BEGIN:VEVENT
UID:4626108:Event:69621
DTSTAMP:20260422T125219Z
SUMMARY:Fabulous Women Late Breakfast, Camberley
DESCRIPTION:Fabulous Women Late Breakfast at Pine Ridge\n\nHi, I'm Joa
 nne, the group leader for the Camberley Fabulous Women group. I look 
 forward to welcoming you!\nOur speakers for December - Nicky Lynch - I
 f your body could talk, what would it be telling you? & Lynn Sleet - F
 loral Christmas, easy to create floral decorations.\nIf you have been 
 wondering what benefits you will receive from being part of this fabul
 ous organisation, let me share with you just a few reasons why coming 
 to a Fabulous Women Netwinning meeting will be the best business decis
 ion you ever made:\n\nMake new friends\nFind customers, suppliers and 
 collaborators\nBe inspired\nLearn new skills\n\n- Our Agenda is the be
 st mix between formal and informal networking - perfect for the new, a
 s well as the more experienced networker  - Inspiring speakers; a 'Hot
  Seat' or Mini-Coaching session; and 1-2-1's with a 'twist' where we a
 ll work out ways in which we can potentially collaborate or support ea
 ch other, even if it's simply by following each other on Twitter etc. 
  - The chance to make a one minute business pitch about who you are, w
 hat you do and who you do it for and how we can help you. (Do not worr
 y about this if you are a little nervous, you can type it out and read
  it if you wish! We do not judge, we just want to help you)\n- Women d
 o business with men too, and Fabulous Women welcomes Marvellous Men wh
 o are happy to network in our style. This means collaboration not comp
 etition, and support not sell and we know that you are interested in b
 oth personal and business development\n- You don't need to be a member
  to attend a Fabulous Women Netwinning meeting. You can attend up to t
 hree meetings as a guest\nWith all these benefits to being a part of t
 he Fabulous Women experience, how can you resist?!   Remember to brin
 g your business cards and marketing material and, if you sell products
 , bring some samples for us to see.\nObviously, please contact me if y
 ou have ANY queries or concerns.\njoanne.element@businessfitclub.co.uk
 \nCOST: £15 for Guests and £10 for FW members (cash only please!)\
 nBOOKING: Please CLICK HERE to visit our website then click on the b
 lue \"Yes I'm Attending\" button on the right\nMAP\n\nFor more informa
 tion visit https://networkinginsurrey.co.uk/events/fabulous-women-late
 -breakfast-camberley-1
DTSTART;TZID=Europe/London:20141204T093000
DTEND;TZID=Europe/London:20141204T113000
CATEGORIES:morning, camberley, fabulous_women
LOCATION:Pine Ridge Golf Club
WEBSITE:http://www.fabulous-women.co.uk/meetings-events/viewevent/1095
 -camberley?groupid=30
URL:http://www.fabulous-women.co.uk/meetings-events/viewevent/1095-cam
 berley?groupid=30
CONTACT:07768 197507
ORGANIZER:Joanne Element
ATTACH;FMTTYPE="image/jpeg":http://storage.ning.com/topology/rest/1.0/
 file/get/2591438120?profile=original
ATTENDEE;ROLE=REQ-PARTICIPANT;PARTSTAT=ACCEPTED;RSVP=TRUE;CN="Jane Har
 dy":https://networkinginsurrey.co.uk/profile/JaneHardy
END:VEVENT
END:VCALENDAR
