BEGIN:VCALENDAR
PRODID:NingEventWidget-v1
VERSION:2.0
METHOD:PUBLISH
BEGIN:VTIMEZONE
TZID:Europe/London
X-LIC-LOCATION:Europe/London
BEGIN:DAYLIGHT
TZOFFSETFROM:+0000
TZOFFSETTO:+0100
TZNAME:BST
DTSTART:19700329T010000
RRULE:FREQ=YEARLY;BYMONTH=3;BYDAY=-1SU
END:DAYLIGHT
BEGIN:STANDARD
TZOFFSETFROM:+0100
TZOFFSETTO:+0000
TZNAME:GMT
DTSTART:19701025T020000
RRULE:FREQ=YEARLY;BYMONTH=10;BYDAY=-1SU
END:STANDARD
END:VTIMEZONE
BEGIN:VEVENT
UID:4626108:Event:75873
DTSTAMP:20260425T202855Z
SUMMARY:Fabulous Women Late Breakfast, Ascot
DESCRIPTION: Fabulous Women Late Breakfast at The Belvedere\n\nHi, I'
 m Leonie, the group leader for the Ascot Fabulous Women group. I lo
 ok forward to welcoming you!\nIf you have been wondering what benefits
  you will receive from being part of this fabulous organisation, let m
 e share with you just a few reasons why coming to a Fabulous Women Net
 winning meeting will be the best business decision you ever made:\n\nM
 ake new friends\nFind customers, suppliers and collaborators\nBe inspi
 red\nLearn new skills\n\n Our Agenda is the best mix between formal a
 nd informal networking - perfect for the new, as well as the more expe
 rienced networker  We have Inspiring speakers; a 'Hot Seat' or Mini-Co
 aching session; and 1-2-1's with a 'twist' where we all work out ways 
 in which we can potentially collaborate or support each other, even if
  it's simply by following each other on Twitter etc. The Speaker this
  month is Gilles Pelenc The title of his talk is “Are you happy?”A
  journey of personal development, change, learning, and key decisions.
 ..\n You have the chance to make a one-minute business pitch about wh
 o you are, what you do and who you do it for and how we can help you. 
 (Do not worry about this if you are a little nervous, you can type it 
 out and read it if you wish! We do not judge, we just want to help you
 )  Women do business with men too, and Fabulous Women welcomes Marvel
 lous Men who are happy to network in our style. This means collaborat
 ion not competition, and support not sell and we know that you are int
 erested in both personal and business development  You don't need to b
 e a member - you can attend up to three Fabulous Women Netwinningmeet
 ings as a guest\n With all these benefits to being a part of the Fabul
 ous Women experience, how can you resist?! To attend, simply clicking
  on the booking link below to go to our website and confirm your atten
 dance, so the venue can cater for you, then just pay on arrival (cash 
 only please!).\n Remember to bring your business cards and marketing m
 aterial and, if you sell products, bring some samples for us to see.  
 Feel free to contact me with any queries or for further information l
 ornavalcin@gmail.com\nCOST: £10 for Guests and FW members (cash on
 ly please, on the door!)\nBOOKING: Please CLICK HERE to visit our w
 ebsite then click on the pink \"Yes I'm Attending\" button at the bot
 tom\nMAP\n---------------------------------\nFind other local Fabulou
 s Women events here on Networking in Surrey...\n\nFor more informatio
 n visit https://networkinginsurrey.co.uk/events/fabulous-women-late-br
 eakfast-ascot-6
DTSTART;TZID=Europe/London:20151217T093000
DTEND;TZID=Europe/London:20151217T113000
CATEGORIES:late_breakfast, ascot
LOCATION:The Belvedere Arms SL5 7SB
WEBSITE:
URL:
CONTACT:
ORGANIZER;CN="Leonie Wright":https://networkinginsurrey.co.uk/profile/
 LeonieWright
ATTACH;FMTTYPE="image/jpeg":http://storage.ning.com/topology/rest/1.0/
 file/get/1179757333?profile=original
ATTENDEE;ROLE=REQ-PARTICIPANT;PARTSTAT=ACCEPTED;RSVP=TRUE;CN="Leonie W
 right":https://networkinginsurrey.co.uk/profile/LeonieWright
END:VEVENT
END:VCALENDAR
