BEGIN:VCALENDAR
PRODID:NingEventWidget-v1
VERSION:2.0
METHOD:PUBLISH
BEGIN:VTIMEZONE
TZID:Europe/London
X-LIC-LOCATION:Europe/London
BEGIN:DAYLIGHT
TZOFFSETFROM:+0000
TZOFFSETTO:+0100
TZNAME:BST
DTSTART:19700329T010000
RRULE:FREQ=YEARLY;BYMONTH=3;BYDAY=-1SU
END:DAYLIGHT
BEGIN:STANDARD
TZOFFSETFROM:+0100
TZOFFSETTO:+0000
TZNAME:GMT
DTSTART:19701025T020000
RRULE:FREQ=YEARLY;BYMONTH=10;BYDAY=-1SU
END:STANDARD
END:VTIMEZONE
BEGIN:VEVENT
UID:4626108:Event:427990
DTSTAMP:20260421T114246Z
SUMMARY:Fabulous Women Guildford Coffee-Time Online
DESCRIPTION:Fabulous Women Guildford Coffee-Time Online \r\n\r\nAre y
 ou running a business and want to meet more people ?\r\nWhy not come a
 nd promote your business at our business networking event? Our unique
  style is a mix of both social and structured so our Guildford busin
 ess network meetings are both fun and effective.\r\nWelcome to Guildfo
 rd Fabulous Networking online, I'm John Edward and I look forward to h
 osting this meeting. In normal times I run the Guildford group but you
  don't have to be local to join us for this online meeting. If you are
  looking to widen your circle why not join us?\r\nEveryone is welcome.
  We don’t have lock out clauses. We believe that people buy people a
 nd you can find opportunities in collaborating with your competitors. 
 Whether you have a hyper local business or are a local representative 
 of a larger business you will be welcome.  \r\nThere'll be some infor
 mal networking and then a chance to introduce yourself in our 60 secon
 d round. We'll have a speaker and then either some one to ones, small 
 group discussions, a hot seat or a mini coaching session.\r\nRemember 
 \"if we are out of sight we are out of mind.\"Take every opportunity t
 o attend on line networking, so you remain in people's minds, so you a
 re the person they go to when they need the product or service you of
 fer.\r\nPlease contact  Glenda Shawley on the email below if you woul
 d like to attend so that we can send you the Zoom link to join the mee
 ting. This will go out shortly before the meeting, if it doesn't appea
 r in your inbox please check your spam folder. \r\nCOST: FREE for G
 uests and FW members \r\nBOOKING: Please email marketing@fabulousn
 etworking.co.uk  for more information or to book, and we will send yo
 u the Zoom link so you can join us for the meeting\r\n----------------
 -----------------\r\nFind other local Fabulous Women events here on 
 Networking in Surrey...\n\nFor more information visit https://networki
 nginsurrey.co.uk/events/fabulous-women-guildford-coffee-time-online-6
DTSTART;TZID=Europe/London:20201020T100000
DTEND;TZID=Europe/London:20201020T120000
CATEGORIES:lunchtime, online, petersfield, netwinning, fabulous_women
LOCATION:Online only
WEBSITE:
URL:
CONTACT:
ORGANIZER:John Edward
ATTACH;FMTTYPE="image/jpeg":https://storage.ning.com/topology/rest/1.0
 /file/get/541438933?profile=original
ATTENDEE;ROLE=REQ-PARTICIPANT;PARTSTAT=ACCEPTED;RSVP=TRUE;CN="Keith Gr
 over, NiS Founder":https://networkinginsurrey.co.uk/profile/KeithGrove
 r
END:VEVENT
END:VCALENDAR
