BEGIN:VCALENDAR
PRODID:NingEventWidget-v1
VERSION:2.0
METHOD:PUBLISH
BEGIN:VTIMEZONE
TZID:Europe/London
X-LIC-LOCATION:Europe/London
BEGIN:DAYLIGHT
TZOFFSETFROM:+0000
TZOFFSETTO:+0100
TZNAME:BST
DTSTART:19700329T010000
RRULE:FREQ=YEARLY;BYMONTH=3;BYDAY=-1SU
END:DAYLIGHT
BEGIN:STANDARD
TZOFFSETFROM:+0100
TZOFFSETTO:+0000
TZNAME:GMT
DTSTART:19701025T020000
RRULE:FREQ=YEARLY;BYMONTH=10;BYDAY=-1SU
END:STANDARD
END:VTIMEZONE
BEGIN:VEVENT
UID:4626108:Event:421982
DTSTAMP:20260421T131700Z
SUMMARY:Fabulous Women Fleet and Richmond Coffee Time Online
DESCRIPTION:Fabulous Women Fleet and Richmond Coffee Time Online \r\n
 For the time being, we are running a combined event for our Richmond a
 nd Fleet regulars!\r\nAre you feeling even more isolated than usual as
  a small business leader? Why not join us for a friendly and supportiv
 e business networking session. As you would expect we've moved online 
 but kept most of our agenda.\r\nYou will still have time to introduce 
 yourself in our 60 seconds round, we always have a guest speaker and a
 ll our speakers offer a lot of great advice in this period of lockdown
 . \r\nWe will then have either one to ones or a business development 
 session. Even if you can't be doing business right now it's still impo
 rtant to maintain your visibility so people will remember you when you
  can start trading again. We are happy to talk about things other than
  business too.\r\nOur meetings are currently FREE to members and visit
 ors for their first three meetings after which you would be welcome to
  join for £17 per month or, if you prefer, you can attend further mee
 tings for £10 each.\r\nPlease contact Glenda Shawley on the email bel
 ow if you would like to attend, so that we can send you the Zoom link 
 to join the meeting. This will go out shortly before the meeting, if i
 t doesn't appear in your inbox please check your spam folder. \r\nWe 
 look forward to meeting you.\r\nCOST: FREE for new Guests and FW mem
 bers \r\nBOOKING: Please email marketing@fabulousnetworking.co.uk 
  for more information or to book, and we will send you the Zoom link s
 o you can join us for the meeting\r\n---------------------------------
 \r\nFind other local Fabulous Women events here on Networking in Sur
 rey...\n\nFor more information visit https://networkinginsurrey.co.uk/
 events/fabulous-women-fleet-and-richmond-coffee-time-online-3
DTSTART;TZID=Europe/London:20201014T100000
DTEND;TZID=Europe/London:20201014T120000
CATEGORIES:lunchtime, online, petersfield, netwinning, fabulous_women
LOCATION:Online only
WEBSITE:
URL:
CONTACT:
ORGANIZER:Mandy Dineley and John Edward
ATTACH;FMTTYPE="image/jpeg":https://storage.ning.com/topology/rest/1.0
 /file/get/541438933?profile=original
ATTENDEE;ROLE=REQ-PARTICIPANT;PARTSTAT=ACCEPTED;RSVP=TRUE;CN="Keith Gr
 over, NiS Founder":https://networkinginsurrey.co.uk/profile/KeithGrove
 r
END:VEVENT
END:VCALENDAR
