BEGIN:VCALENDAR
PRODID:NingEventWidget-v1
VERSION:2.0
METHOD:PUBLISH
BEGIN:VTIMEZONE
TZID:Europe/London
X-LIC-LOCATION:Europe/London
BEGIN:DAYLIGHT
TZOFFSETFROM:+0000
TZOFFSETTO:+0100
TZNAME:BST
DTSTART:19700329T010000
RRULE:FREQ=YEARLY;BYMONTH=3;BYDAY=-1SU
END:DAYLIGHT
BEGIN:STANDARD
TZOFFSETFROM:+0100
TZOFFSETTO:+0000
TZNAME:GMT
DTSTART:19701025T020000
RRULE:FREQ=YEARLY;BYMONTH=10;BYDAY=-1SU
END:STANDARD
END:VTIMEZONE
BEGIN:VEVENT
UID:4626108:Event:428144
DTSTAMP:20260422T000554Z
SUMMARY:Fabulous Women Esher/Oxshott Coffee-Time Online
DESCRIPTION:Fabulous Women Oxshott Coffee-Time Online\nAll our Network
 ing meetings are now online and via Zoom.\nWhen you book in on the web
 site you will receive a link to the Zoom call the evening before so ma
 ke sure you book before that.\nIâ€™m Leonie Wright and I look forward 
 to welcoming you.\nOur agenda is likely to include:\n\nInformal networ
 king\nA networking tip\nA one minute introduction round\nSpeaker\nBusi
 ness development slot\n\nWe encourage you to prepare a one minute intr
 oduction to you and your business. If this makes you nervous please fe
 el free to read your prepared script.\nPlease contact Â Glenda Shawley
  on the email below if you would like to attend so that we can send yo
 u the Zoom link to join the meeting. This will go out shortly before t
 he meeting, if it doesn't appear in your inbox please check your spam 
 folder.Â \nCOST:Â FREEÂ for Guests and FW membersÂ \nBOOKING:Â PleaseÂ
  emailÂ marketing@fabulousnetworking.co.ukÂ  for more information or t
 o book, and we will send you the Zoom link so you can join us for the 
 meeting\n\n\nFor more information visit https://networkinginsurrey.co.
 uk/events/fabulous-women-esher-oxshott-coffee-time-online-4
DTSTART;TZID=Europe/London:20201022T100000
DTEND;TZID=Europe/London:20201022T120000
CATEGORIES:morning, wimbledon, netwinning, fabulous_women
LOCATION:Online only
WEBSITE:http://fabulous-women.co.uk/eventdetails
URL:http://fabulous-women.co.uk/eventdetails
CONTACT:
ORGANIZER;CN="Leonie Wright":https://networkinginsurrey.co.uk/profile/
 LeonieWright
ATTACH;FMTTYPE="image/jpeg":https://storage.ning.com/topology/rest/1.0
 /file/get/861011884?profile=original
ATTENDEE;ROLE=REQ-PARTICIPANT;PARTSTAT=ACCEPTED;RSVP=TRUE;CN="Leonie W
 right":https://networkinginsurrey.co.uk/profile/LeonieWright
END:VEVENT
END:VCALENDAR
