BEGIN:VCALENDAR
PRODID:NingEventWidget-v1
VERSION:2.0
METHOD:PUBLISH
BEGIN:VTIMEZONE
TZID:Europe/London
X-LIC-LOCATION:Europe/London
BEGIN:DAYLIGHT
TZOFFSETFROM:+0000
TZOFFSETTO:+0100
TZNAME:BST
DTSTART:19700329T010000
RRULE:FREQ=YEARLY;BYMONTH=3;BYDAY=-1SU
END:DAYLIGHT
BEGIN:STANDARD
TZOFFSETFROM:+0100
TZOFFSETTO:+0000
TZNAME:GMT
DTSTART:19701025T020000
RRULE:FREQ=YEARLY;BYMONTH=10;BYDAY=-1SU
END:STANDARD
END:VTIMEZONE
BEGIN:VEVENT
UID:4626108:Event:427993
DTSTAMP:20260421T114246Z
SUMMARY:Fabulous Women Alton Coffee-Time Online
DESCRIPTION:Fabulous Women Alton Coffee-Time Online \r\n\r\nHello, I 
 am Jill Aburrow.  \r\nWhy not join us for a morning of networking, l
 earning and inpsiration in an uplifting environment?  We would normal
 ly meet at this time in Chawton House, near Alton, but for now we are 
 meeting instead online (via Zoom) and I look forward to welcoming you.
 \r\nOur online meetings follow a similar agenda to our in person meeti
 ngs.  We can't share business cards, but if you type your details int
 o the zoom chat, then we will share them after the meeting.\r\nYou wil
 l have the opportunity to introduce yourself and your business in 60 s
 econds and then we'll have a speaker. \r\nOur speaker this month is A
 nne Williams, who has been running her business, Transforming Health, 
 since 2010. She will be speaking about \"3 Attitudes of Highly Success
 ful Business People\". I have heard Anne speak recently and I am sure 
 we are in for a treat!\r\nIf there is time, we will break out into sma
 ller groups for easier discussions about a specific topic, or to answe
 r a business issue raised by an attendee. \r\nThe event is FREE to me
 mbers.  Visitors are welcome to atttend three Fabulous Networking mee
 tings without charge, after which we would love you to join us for £1
 7 per month.  Or you can pay an attendance fee of £10 for each addit
 ional meeting after the initial three. \r\nPlease contact  Glenda Sh
 awley on the email below if you would like to attend so that we can se
 nd you the Zoom link to join the meeting. This will go out shortly bef
 ore the meeting, if it doesn't appear in your inbox please check your 
 spam folder. \r\nCOST: FREE for Guests and FW members \r\nBOOKING:
  Please email marketing@fabulousnetworking.co.uk  for more informa
 tion or to book, and we will send you the Zoom link so you can join us
  for the meeting\r\n---------------------------------\r\nFind other l
 ocal Fabulous Women events here on Networking in Surrey...\n\nFor mor
 e information visit https://networkinginsurrey.co.uk/events/fabulous-w
 omen-alton-coffee-time-online-2
DTSTART;TZID=Europe/London:20201021T100000
DTEND;TZID=Europe/London:20201021T120000
CATEGORIES:lunchtime, online, petersfield, netwinning, fabulous_women
LOCATION:Online only
WEBSITE:
URL:
CONTACT:
ORGANIZER:Jill Aburrow
ATTACH;FMTTYPE="image/jpeg":https://storage.ning.com/topology/rest/1.0
 /file/get/541438933?profile=original
ATTENDEE;ROLE=REQ-PARTICIPANT;PARTSTAT=ACCEPTED;RSVP=TRUE;CN="Keith Gr
 over, NiS Founder":https://networkinginsurrey.co.uk/profile/KeithGrove
 r
END:VEVENT
END:VCALENDAR
