BEGIN:VCALENDAR
PRODID:NingEventWidget-v1
VERSION:2.0
METHOD:PUBLISH
BEGIN:VTIMEZONE
TZID:Europe/London
X-LIC-LOCATION:Europe/London
BEGIN:DAYLIGHT
TZOFFSETFROM:+0000
TZOFFSETTO:+0100
TZNAME:BST
DTSTART:19700329T010000
RRULE:FREQ=YEARLY;BYMONTH=3;BYDAY=-1SU
END:DAYLIGHT
BEGIN:STANDARD
TZOFFSETFROM:+0100
TZOFFSETTO:+0000
TZNAME:GMT
DTSTART:19701025T020000
RRULE:FREQ=YEARLY;BYMONTH=10;BYDAY=-1SU
END:STANDARD
END:VTIMEZONE
BEGIN:VEVENT
UID:4626108:Event:102103
DTSTAMP:20260424T083118Z
SUMMARY:Fabulous Women 'All-Area' CHRISTMAS LUNCH, Kingston
DESCRIPTION:Fabulous Women Christmas Lunch at the Brook Kingston Lodg
 e Hotel\r\n\r\nCome to our Fabulous Christmas Lunch - all welcome!\r\n
 Christmas Lunch for Fabulous Women and Marvellous Men, following the K
 ingston networking meeting. All (members and non-members) are welcome 
 to attend either or both.\r\nTHe price is £25.33 and includes a welco
 me drink (Prosecco or orange juice), delicious three course festive me
 nu and coffee or tea with mince pies. Choose your meal when you book.\
 r\nCome and celebrate Christmas the Fabulous Women and Marvellous Men 
 way!\r\nI look forward to seeing you there - if you have any queries p
 lease email me on  caroline.ewans@zoho.com  \r\nCOST: £25.33 inc
  booking fee for Guests and FW members \r\nBOOKING: Please CLICK HERE
  to book your place and pay - you will be taken to the booking page w
 here you can make your menu choices before paying.\r\nMAP \r\n--------
 -------------------------\r\nFind other local Fabulous Women events h
 ere on Networking in Surrey...\n\nFor more information visit https://
 networkinginsurrey.co.uk/events/fabulous-women-all-area-christmas-lunc
 h-kingston
DTSTART;TZID=Europe/London:20181220T123000
DTEND;TZID=Europe/London:20181220T153000
CATEGORIES:morning, kingston, netwinning, fabulous_women
LOCATION:The Brook Kingston Lodge Hotel KT2 7NP
WEBSITE:http://fabulous-women.co.uk/event/detail_1626
URL:http://fabulous-women.co.uk/event/detail_1626
CONTACT:07768 197507
ORGANIZER;CN="Caroline Ewans":https://networkinginsurrey.co.uk/profile
 /CarolineEwans
ATTACH;FMTTYPE="image/jpeg":https://storage.ning.com/topology/rest/1.0
 /file/get/254144564?profile=original
ATTENDEE;ROLE=REQ-PARTICIPANT;PARTSTAT=ACCEPTED;RSVP=TRUE;CN="Keith Gr
 over, NiS Founder":https://networkinginsurrey.co.uk/profile/KeithGrove
 r
ATTENDEE;ROLE=REQ-PARTICIPANT;PARTSTAT=ACCEPTED;RSVP=TRUE;CN="Caroline
  Ewans":https://networkinginsurrey.co.uk/profile/CarolineEwans
END:VEVENT
END:VCALENDAR
