BEGIN:VCALENDAR
PRODID:NingEventWidget-v1
VERSION:2.0
METHOD:PUBLISH
BEGIN:VTIMEZONE
TZID:Europe/London
X-LIC-LOCATION:Europe/London
BEGIN:DAYLIGHT
TZOFFSETFROM:+0000
TZOFFSETTO:+0100
TZNAME:BST
DTSTART:19700329T010000
RRULE:FREQ=YEARLY;BYMONTH=3;BYDAY=-1SU
END:DAYLIGHT
BEGIN:STANDARD
TZOFFSETFROM:+0100
TZOFFSETTO:+0000
TZNAME:GMT
DTSTART:19701025T020000
RRULE:FREQ=YEARLY;BYMONTH=10;BYDAY=-1SU
END:STANDARD
END:VTIMEZONE
BEGIN:VEVENT
UID:4626108:Event:245998
DTSTAMP:20260422T031523Z
SUMMARY:Fabulous Women 'All-Area' CHRISTMAS LUNCH, Kingston
DESCRIPTION:Fabulous Women Christmas Lunch at the Brook Kingston Lodg
 e Hotel\n\nCome to our Fabulous Christmas Lunch - all welcome!\nChrist
 mas Lunch for Fabulous Women and Marvellous Men, following the Kingsto
 n networking meeting. All (members and non-members) are welcome to att
 end either or both.\nTHe price is £25.39 and includes a welcome drink
  (Prosecco or orange juice), delicious three course festive menu and c
 offee or tea with mince pies. Choose your meal when you book.\nCome an
 d celebrate Christmas the Fabulous Women and Marvellous Men way!\nI lo
 ok forward to seeing you there - if you have any queries please email 
 me on  caroline.ewans@zoho.com  \nCOST: £25.39 inc booking fee f
 or Guests and FW members \nBOOKING: Please CLICK HERE to book your p
 lace and pay - you will be taken to the booking page where you can mak
 e your menu choices before paying.\nMAP\n-----------------------------
 ----\nFind other local Fabulous Women events here on Networking in S
 urrey...\n\nFor more information visit https://networkinginsurrey.co.u
 k/events/fabulous-women-all-area-christmas-lunch-kingston-1
DTSTART;TZID=Europe/London:20191219T123000
DTEND;TZID=Europe/London:20191219T153000
CATEGORIES:morning, kingston, netwinning, fabulous_women
LOCATION:The Brook Kingston Lodge Hotel KT2 7NP
WEBSITE:http://fabulous-women.co.uk/event/detail_1626
URL:http://fabulous-women.co.uk/event/detail_1626
CONTACT:07768 197507
ORGANIZER;CN="Caroline Ewans":https://networkinginsurrey.co.uk/profile
 /CarolineEwans
ATTACH;FMTTYPE="image/jpeg":https://storage.ning.com/topology/rest/1.0
 /file/get/254144564?profile=original
ATTENDEE;ROLE=REQ-PARTICIPANT;PARTSTAT=ACCEPTED;RSVP=TRUE;CN="Caroline
  Ewans":https://networkinginsurrey.co.uk/profile/CarolineEwans
END:VEVENT
END:VCALENDAR
