BEGIN:VCALENDAR
PRODID:NingEventWidget-v1
VERSION:2.0
METHOD:PUBLISH
BEGIN:VTIMEZONE
TZID:Europe/London
X-LIC-LOCATION:Europe/London
BEGIN:DAYLIGHT
TZOFFSETFROM:+0000
TZOFFSETTO:+0100
TZNAME:BST
DTSTART:19700329T010000
RRULE:FREQ=YEARLY;BYMONTH=3;BYDAY=-1SU
END:DAYLIGHT
BEGIN:STANDARD
TZOFFSETFROM:+0100
TZOFFSETTO:+0000
TZNAME:GMT
DTSTART:19701025T020000
RRULE:FREQ=YEARLY;BYMONTH=10;BYDAY=-1SU
END:STANDARD
END:VTIMEZONE
BEGIN:VEVENT
UID:4626108:Event:531114
DTSTAMP:20260420T172958Z
SUMMARY:Fabulous Networking Teddington Coffee-Time Online
DESCRIPTION:Fabulous Networking Coffee-Time Online\r\nJoin Group Leade
 r Anne Williams and business friends for a morning of business network
 ing where you get time to shine. We'd love to meet you\r\nIs the isola
 tion of home working getting you down? Are you struggling to grow your
  business in these challenging times? Do you need some help to get you
 r mojo back?\r\nThese are just some of the reasons why people attend F
 abulous Networking meetings. Whether you are just starting out or have
  been trading for years there’s a place for you in our community.\r\
 nYou’ll have the opportunity to promote your business in 60 seconds 
 to everyone on the call. You’ll make connections with other business
  owners and professionals and be challenged to think by our speaker.\r
 \nOur speaker is Jeremy Glyn, an accredited coach and trainer and auth
 or of ‘Achieving Happiness’ sharing ‘Four Things that Hold us Ba
 ck from Achieving our Goals’. \r\nOur agenda is flexible to meet th
 e needs of the attendees so there may be some speed networking, a busi
 ness hotseat or some small group discussions.\r\nWe promise you a rela
 xed but professional meeting. Everyone is welcome. We believe that peo
 ple buy people and that there are collaborative opportunities with our
  competitors so there are no professional lock outs of Fabulous Networ
 king.\r\nVisitors may attend up to three meetings free of charge after
  which become a member from £17 per month and get all our online even
 ts free.\r\nBook your place and we’ll send you the link to the Zoom 
 call the night before the meeting.\r\nWe look forward to seeing you.\r
 \nCOST: FREE for Guests and FW members \r\nBOOKING: Please CLICK H
 ERE to book or email marketing@fabulousnetworking.co.uk  for more in
 formation, and we will send you the Zoom link so you can join us for t
 he meeting\r\n---------------------------------\r\nFind other local F
 abulous Networking events here on Networking in Surrey...\r\n\n\nFor 
 more information visit https://networkinginsurrey.co.uk/events/fabulou
 s-networking-teddington-coffee-time-online-10
DTSTART;TZID=Europe/London:20211207T100000
DTEND;TZID=Europe/London:20211207T120000
CATEGORIES:morning, wimbledon, netwinning, fabulous_women
LOCATION:Online only
WEBSITE:http://fabulous-women.co.uk/eventdetails
URL:http://fabulous-women.co.uk/eventdetails
CONTACT:
ORGANIZER:Anne Williams
ATTACH;FMTTYPE="image/jpeg":https://storage.ning.com/topology/rest/1.0
 /file/get/8198769697?profile=original
ATTENDEE;ROLE=REQ-PARTICIPANT;PARTSTAT=ACCEPTED;RSVP=TRUE;CN="Keith Gr
 over, NiS Founder":https://networkinginsurrey.co.uk/profile/KeithGrove
 r
END:VEVENT
END:VCALENDAR
