BEGIN:VCALENDAR
PRODID:NingEventWidget-v1
VERSION:2.0
METHOD:PUBLISH
BEGIN:VTIMEZONE
TZID:Europe/London
X-LIC-LOCATION:Europe/London
BEGIN:DAYLIGHT
TZOFFSETFROM:+0000
TZOFFSETTO:+0100
TZNAME:BST
DTSTART:19700329T010000
RRULE:FREQ=YEARLY;BYMONTH=3;BYDAY=-1SU
END:DAYLIGHT
BEGIN:STANDARD
TZOFFSETFROM:+0100
TZOFFSETTO:+0000
TZNAME:GMT
DTSTART:19701025T020000
RRULE:FREQ=YEARLY;BYMONTH=10;BYDAY=-1SU
END:STANDARD
END:VTIMEZONE
BEGIN:VEVENT
UID:4626108:Event:531005
DTSTAMP:20260425T122732Z
SUMMARY:Fabulous Networking Richmond & Guildford Coffee Time Online
DESCRIPTION:Fabulous Networking Richmond Coffee Time Online \r\nJoin 
 John Edward for a morning of business networking with Fabulous Networ
 king's Richmond and Guildford groups combined.\r\nIs the isolation of 
 home working getting you down? Are you struggling to grow your busines
 s in these challenging times? Do you need some help to get your mojo b
 ack?\r\nThese are just some of the reasons why people attend Fabulous 
 Networking meetings. Whether you are just starting out or have been tr
 ading for years there’s a place for you in our community.\r\nYou’l
 l have the opportunity to promote your business in 60 seconds to every
 one on the call. You’ll make connections with other business owners 
 and professionals and be challenged to think by our speaker. Our agend
 a is flexible to meet the needs of the attendees so there may be some 
 speed networking, a business hotseat or some small group discussions.\
 r\nOur speaker is Mark Rouvray.  who will lead us through his 12 poi
 nt web review tool to determine how well your website is working for y
 ou. \r\nWe promise you a relaxed but professional meeting. Everyone i
 s welcome. We believe that people buy people and that there are collab
 orative opportunities with our competitors so there are no professiona
 l lock outs of Fabulous Networking.\r\nVisitors may attend up to three
  meetings free of charge after which become a member from £17 per mon
 th and get all our online events free. Visitors please email marketin
 g@fabulousnetworking.co.uk  for more information\r\nBook your place a
 nd we’ll send you the link to the Zoom call the night before the mee
 ting.\r\nWe look forward to seeing you.\r\nCOST: FREE for new Guests
  and FN Members or £10 pay-as-you-go per meeting\r\nBOOKING: Pleas
 e CLICK HERE to book, and we will send you the Zoom link so you can
  join us for the meeting\r\n\n\nFor more information visit https://net
 workinginsurrey.co.uk/events/fabulous-networking-richmond-guildford-co
 ffee-time-online
DTSTART;TZID=Europe/London:20211214T100000
DTEND;TZID=Europe/London:20211214T120000
CATEGORIES:morning, online, richmond, netwinning, fabulous_networking
LOCATION:Online only
WEBSITE:
URL:
CONTACT:
ORGANIZER:John Edward
ATTACH;FMTTYPE="image/jpeg":https://storage.ning.com/topology/rest/1.0
 /file/get/8248947256?profile=original
ATTENDEE;ROLE=REQ-PARTICIPANT;PARTSTAT=ACCEPTED;RSVP=TRUE;CN="Keith Gr
 over, NiS Founder":https://networkinginsurrey.co.uk/profile/KeithGrove
 r
END:VEVENT
END:VCALENDAR
