BEGIN:VCALENDAR
PRODID:NingEventWidget-v1
VERSION:2.0
METHOD:PUBLISH
BEGIN:VTIMEZONE
TZID:Europe/London
X-LIC-LOCATION:Europe/London
BEGIN:DAYLIGHT
TZOFFSETFROM:+0000
TZOFFSETTO:+0100
TZNAME:BST
DTSTART:19700329T010000
RRULE:FREQ=YEARLY;BYMONTH=3;BYDAY=-1SU
END:DAYLIGHT
BEGIN:STANDARD
TZOFFSETFROM:+0100
TZOFFSETTO:+0000
TZNAME:GMT
DTSTART:19701025T020000
RRULE:FREQ=YEARLY;BYMONTH=10;BYDAY=-1SU
END:STANDARD
END:VTIMEZONE
BEGIN:VEVENT
UID:4626108:Event:530346
DTSTAMP:20260425T043841Z
SUMMARY:Fabulous Networking Richmond Coffee Time Online
DESCRIPTION:Fabulous Networking Richmond Coffee Time Online \r\nJoin 
 John Edward for a morning of business networking with Fabulous Networ
 king's Richmond group.\r\nIs the isolation of home working getting you
  down? Are you struggling to grow your business in these challenging t
 imes? Do you need some help to get your mojo back?\r\nThese are just s
 ome of the reasons why people attend Fabulous Networking meetings. Whe
 ther you are just starting out or have been trading for years there’
 s a place for you in our community.\r\nYou’ll have the opportunity t
 o promote your business in 60 seconds to everyone on the call. You’l
 l make connections with other business owners and professionals and be
  challenged to think by our speaker. Our agenda is flexible to meet th
 e needs of the attendees so there may be some speed networking, a busi
 ness hotseat or some small group discussions.\r\nOur speaker for this 
 meeting is website expert Mark Rouvray.\r\nWe promise you a relaxed b
 ut professional meeting. Everyone is welcome. We believe that people b
 uy people and that there are collaborative opportunities with our comp
 etitors so there are no professional lock outs of Fabulous Networking.
 \r\nVisitors may attend up to three meetings free of charge after whic
 h become a member from £17 per month and get all our online events fr
 ee. Visitors please email marketing@fabulousnetworking.co.uk  for mo
 re information\r\nBook your place and we’ll send you the link to the
  Zoom call the night before the meeting.\r\nWe look forward to seeing 
 you.\r\nCOST: FREE for new Guests and FN Members or £10 pay-as-yo
 u-go per meeting\r\nBOOKING: Please CLICK HERE to book, and we wil
 l send you the Zoom link so you can join us for the meeting\r\n\n\nFor
  more information visit https://networkinginsurrey.co.uk/events/fabulo
 us-networking-richmond-coffee-time-online-5
DTSTART;TZID=Europe/London:20211109T100000
DTEND;TZID=Europe/London:20211109T120000
CATEGORIES:morning, online, richmond, netwinning, fabulous_networking
LOCATION:Online only
WEBSITE:
URL:
CONTACT:
ORGANIZER:John Edward
ATTACH;FMTTYPE="image/jpeg":https://storage.ning.com/topology/rest/1.0
 /file/get/8248947256?profile=original
ATTENDEE;ROLE=REQ-PARTICIPANT;PARTSTAT=ACCEPTED;RSVP=TRUE;CN="Keith Gr
 over, NiS Founder":https://networkinginsurrey.co.uk/profile/KeithGrove
 r
END:VEVENT
END:VCALENDAR
