BEGIN:VCALENDAR
PRODID:NingEventWidget-v1
VERSION:2.0
METHOD:PUBLISH
BEGIN:VTIMEZONE
TZID:Europe/London
X-LIC-LOCATION:Europe/London
BEGIN:DAYLIGHT
TZOFFSETFROM:+0000
TZOFFSETTO:+0100
TZNAME:BST
DTSTART:19700329T010000
RRULE:FREQ=YEARLY;BYMONTH=3;BYDAY=-1SU
END:DAYLIGHT
BEGIN:STANDARD
TZOFFSETFROM:+0100
TZOFFSETTO:+0000
TZNAME:GMT
DTSTART:19701025T020000
RRULE:FREQ=YEARLY;BYMONTH=10;BYDAY=-1SU
END:STANDARD
END:VTIMEZONE
BEGIN:VEVENT
UID:4626108:Event:526095
DTSTAMP:20260420T185542Z
SUMMARY:Fabulous Networking Richmond Coffee Time Online
DESCRIPTION:Fabulous Networking Richmond Coffee Time OnlineÂ \r\nJoin 
 John EdwardÂ for a morning of business networking with Fabulous Networ
 king's Richmond group.\r\nIs the isolation of home working getting you
  down? Are you struggling to grow your business in these challenging t
 imes? Do you need some help to get your mojo back?\r\n\r\n\r\n\r\n\r\n
 These are just some of the reasons why people attend Fabulous Networki
 ng meetings. Whether you are just starting out or have been trading fo
 r years thereâ€™s a place for you in our community.\r\nYouâ€™ll have t
 he opportunity to promote your business in 60 seconds to everyone on t
 he call. Youâ€™ll make connections with other business owners and prof
 essionals and be challenged to think by our speaker. Our agenda is fle
 xible to meet the needs of the attendees so there may be some speed ne
 tworking, a business hotseat or some small group discussions.\r\nWe pr
 omise you a relaxed but professional meeting. Everyone is welcome. We 
 believe that people buy people and that there are collaborative opport
 unities with our competitors so there are no professional lock outs of
  Fabulous Networking.\r\nVisitors may attend up to three meetings free
  of charge after which become a member from Â£17 per month and get all
  our online events free. Visitors please emailÂ marketing@fabulousnetw
 orking.co.ukÂ  for more information\r\nBook your place and weâ€™ll sen
 d you the link to the Zoom call the night before the meeting.\r\nWe lo
 ok forward to seeing you.\r\nCOST:Â FREEÂ for new Guests and FN Member
 s orÂ Â£10Â pay-as-you-go per meeting\r\nBOOKING:Â PleaseÂ CLICK HEREÂ
  to book,Â and we will send you the Zoom link so you can join us for t
 he meeting\r\n\r\n\r\n\r\n\r\n\n\nFor more information visit https://n
 etworkinginsurrey.co.uk/events/fabulous-networking-richmond-coffee-tim
 e-online-3
DTSTART;TZID=Europe/London:20210413T100000
DTEND;TZID=Europe/London:20210413T120000
CATEGORIES:lunchtime, online, petersfield, netwinning, fabulous_women
LOCATION:Online only
WEBSITE:
URL:
CONTACT:
ORGANIZER:John Edward
ATTACH;FMTTYPE="image/jpeg":https://storage.ning.com/topology/rest/1.0
 /file/get/8248947256?profile=original
ATTENDEE;ROLE=REQ-PARTICIPANT;PARTSTAT=ACCEPTED;RSVP=TRUE;CN="Keith Gr
 over, NiS Founder":https://networkinginsurrey.co.uk/profile/KeithGrove
 r
END:VEVENT
END:VCALENDAR
