BEGIN:VCALENDAR
PRODID:NingEventWidget-v1
VERSION:2.0
METHOD:PUBLISH
BEGIN:VTIMEZONE
TZID:Europe/London
X-LIC-LOCATION:Europe/London
BEGIN:DAYLIGHT
TZOFFSETFROM:+0000
TZOFFSETTO:+0100
TZNAME:BST
DTSTART:19700329T010000
RRULE:FREQ=YEARLY;BYMONTH=3;BYDAY=-1SU
END:DAYLIGHT
BEGIN:STANDARD
TZOFFSETFROM:+0100
TZOFFSETTO:+0000
TZNAME:GMT
DTSTART:19701025T020000
RRULE:FREQ=YEARLY;BYMONTH=10;BYDAY=-1SU
END:STANDARD
END:VTIMEZONE
BEGIN:VEVENT
UID:4626108:Event:533086
DTSTAMP:20260425T135614Z
SUMMARY:Fabulous Networking Lunchtime  LIVE! Farnham
DESCRIPTION:Fabulous Networking Lunchtime LIVE! at The Plough\r\n\r\nR
 unning a small business can be isolating never more so than in a world
  where we are confined to our homes.Â  It helps to meet with others wh
 o understand the challenges you face..Â  Why not join us for a morning
  of networking, learning and inspiration in an uplifting environment? 
 Iâ€™mÂ Adam Buttery and I look forward to welcoming you.\r\nThis month
  our speaker Â is wills, estate planning and mortgage expert, John Edw
 ard. \r\nThe event is FREE to members. Visitors are welcome to attend 
 three Fabulous Networking meetings without charge after which you can 
 either join us for Â£17 per month or pay an attendance fee of Â£10 for
  each additional meeting.Â \r\nCOST:Â FREEÂ for Guests and FW membersÂ
  \r\nBOOKING:Â Please CLICK HERE to book or emailÂ marketing@fabulousn
 etworking.co.ukÂ  for more information\r\nMAP\r\n\r\n\n\nFor more info
 rmation visit https://networkinginsurrey.co.uk/events/fabulous-network
 ing-lunchtime-live-farnham
DTSTART;TZID=Europe/London:20210824T120000
DTEND;TZID=Europe/London:20210824T140000
CATEGORIES:morning, wimbledon, netwinning, fabulous_women
LOCATION:The Plough GU9 7EH
WEBSITE:https://fabulousnetworking.co.uk/
URL:https://fabulousnetworking.co.uk/
CONTACT:
ORGANIZER:Adam Buttery
ATTACH;FMTTYPE="image/jpeg":https://storage.ning.com/topology/rest/1.0
 /file/get/8198780061?profile=original
ATTENDEE;ROLE=REQ-PARTICIPANT;PARTSTAT=ACCEPTED;RSVP=TRUE;CN="Keith Gr
 over, NiS Founder":https://networkinginsurrey.co.uk/profile/KeithGrove
 r
END:VEVENT
END:VCALENDAR
