BEGIN:VCALENDAR
PRODID:NingEventWidget-v1
VERSION:2.0
METHOD:PUBLISH
BEGIN:VTIMEZONE
TZID:Europe/London
X-LIC-LOCATION:Europe/London
BEGIN:DAYLIGHT
TZOFFSETFROM:+0000
TZOFFSETTO:+0100
TZNAME:BST
DTSTART:19700329T010000
RRULE:FREQ=YEARLY;BYMONTH=3;BYDAY=-1SU
END:DAYLIGHT
BEGIN:STANDARD
TZOFFSETFROM:+0100
TZOFFSETTO:+0000
TZNAME:GMT
DTSTART:19701025T020000
RRULE:FREQ=YEARLY;BYMONTH=10;BYDAY=-1SU
END:STANDARD
END:VTIMEZONE
BEGIN:VEVENT
UID:4626108:Event:288805
DTSTAMP:20260422T155727Z
SUMMARY:Fabulous Networking Late Breakfast, Guildford
DESCRIPTION:Fabulous Women Late Breakfast at the Duke of Wellington\r
 \n\r\nHi, I'm Amanda Weller, the group leader for the Guildford Fabul
 ous Networking group. I look forward to welcoming you!\r\nHere are ju
 st a few reasons why coming to a Fabulous Networking meeting will be t
 he best business decision you ever made:\r\n\r\nMake new friends\r\nFi
 nd customers, suppliers and collaborators\r\nBe inspired\r\nLearn new 
 skills\r\n\r\nOur Agenda is the best mix between formal and informal 
 networking - perfect for the new, as well as the more experienced netw
 orker\r\nWe have Inspiring speakers; a 'Hot Seat' or Mini-Coaching ses
 sion; and 1-2-1's with a 'twist' where we all work out ways in which w
 e can potentially collaborate or support each other, even if it's simp
 ly by following each other on Twitter etc. \r\nThis month's speaker w
 ill be announced shortly...\r\nYou have the chance to make a one-minut
 e business pitch about who you are, what you do and who you do it for
  and how we can help you. (Do not worry about this if you are a little
  nervous, you can type it out and read it if you wish! We do not judge
 , we just want to help you).\r\nWomen do business with men too, and Fa
 bulous Women welcomes Marvellous Men who are happy to network in our 
 style. This means collaboration not competition, and support not sell 
 and we know that you are interested in both personal and business deve
 lopment.\r\nYou don't need to be a member to attend a Fabulous Women 
 Netwinning meeting. You can attend up to three meetings as a guest.\r\
 nWith all these benefits to being a part of the Fabulous Women experie
 nce, how can you resist?!To attend, simply confirm your attendance by 
 clicking on the blue \"Yes I'm Attending\" button on the right, so the
  venue can cater for you, then just pay the attendance fee on arrival 
 (cash only please!).\r\nRemember to bring your business cards and mark
 eting material and, if you sell products, bring some samples for us to
  see.\r\nI look forward to seeing you.\r\nCOST: £10 for Guests and 
 FW members (cash only please, on the door!)\r\nBOOKING: Please CLIC
 K HERE to visit our website then click on the pink \"Yes I'm Attendi
 ng\" button at the bottom\r\nMAP \r\n---------------------------------
 \r\nFind other local Fabulous Women events here on Networking in Sur
 rey...\n\nFor more information visit https://networkinginsurrey.co.uk/
 events/fabulous-networking-guildford
DTSTART;TZID=Europe/London:20200121T100000
DTEND;TZID=Europe/London:20200122T120000
CATEGORIES:networking, meeting
LOCATION:Guildford
WEBSITE:https://www.google.com/maps/dir/51.1545138,-0.6086808/duke+of+
 wellington,+guildford+road.+east+horsley+kt24+6aa/@51.2176876,-0.68290
 21,11z/data=!3m1!4b1!4m9!4m8!1m1!4e1!1m5!1m1!1s0x4875de82add16de3:0x4c
 86f9e1144f9964!2m2!1d-0.4316409!2d51.2628754
URL:https://www.google.com/maps/dir/51.1545138,-0.6086808/duke+of+well
 ington,+guildford+road.+east+horsley+kt24+6aa/@51.2176876,-0.6829021,1
 1z/data=!3m1!4b1!4m9!4m8!1m1!4e1!1m5!1m1!1s0x4875de82add16de3:0x4c86f9
 e1144f9964!2m2!1d-0.4316409!2d51.2628754
CONTACT:07776131136
ORGANIZER;CN="Amanda Weller":https://networkinginsurrey.co.uk/profile/
 AmandaWeller
ATTACH;FMTTYPE="image/jpeg":https://storage.ning.com/topology/rest/1.0
 /file/get/628423033?profile=original
ATTENDEE;ROLE=REQ-PARTICIPANT;PARTSTAT=ACCEPTED;RSVP=TRUE;CN="Amanda W
 eller":https://networkinginsurrey.co.uk/profile/AmandaWeller
END:VEVENT
END:VCALENDAR
