BEGIN:VCALENDAR
PRODID:NingEventWidget-v1
VERSION:2.0
METHOD:PUBLISH
BEGIN:VTIMEZONE
TZID:Europe/London
X-LIC-LOCATION:Europe/London
BEGIN:DAYLIGHT
TZOFFSETFROM:+0000
TZOFFSETTO:+0100
TZNAME:BST
DTSTART:19700329T010000
RRULE:FREQ=YEARLY;BYMONTH=3;BYDAY=-1SU
END:DAYLIGHT
BEGIN:STANDARD
TZOFFSETFROM:+0100
TZOFFSETTO:+0000
TZNAME:GMT
DTSTART:19701025T020000
RRULE:FREQ=YEARLY;BYMONTH=10;BYDAY=-1SU
END:STANDARD
END:VTIMEZONE
BEGIN:VEVENT
UID:4626108:Event:530370
DTSTAMP:20260421T032245Z
SUMMARY:Fabulous Networking Guildford Coffee-Time Online
DESCRIPTION:Fabulous Networking Guildford Coffee-Time OnlineÂ \r\n\r\n
 Join John EdwardÂ for a morning of business networking with Fabulous N
 etworking's Guildford Group.\r\nIs the isolation of home working getti
 ng you down? Are you struggling to grow your business in these challen
 ging times? Do you need some help to get your mojo back?\r\nThese are 
 just some of the reasons why people attend Fabulous Networking meeting
 s. Whether you are just starting out or have been trading for years th
 ereâ€™s a place for you in our community.\r\nYouâ€™ll have the opportu
 nity to promote your business in 60 seconds to everyone on the call. Y
 ouâ€™ll make connections with other business owners and professionals 
 and be challenged to think by our speaker.\r\nOur agenda is flexible t
 o meet the needs of the attendees so there may be some speed networkin
 g, a business hotseat or some small group discussions.\r\nWe promise y
 ou a relaxed but professional meeting. Everyone is welcome. We believe
  that people buy people and that there are collaborative opportunities
  with our competitors so there are no professional lock outs of Fabulo
 us Networking.\r\nVisitors may attend up to three meetings free of cha
 rge after which become a member from Â£17 per month and get all our on
 line events free.\r\nBook your place and weâ€™ll send you the link to 
 the Zoom call the night before the meeting.\r\nWe look forward to seei
 ng you.\r\nCOST:Â FREEÂ for new Guests and FW membersÂ \r\nBOOKING:Â P
 lease CLICK HERE to book, or email marketing@fabulousnetworking.co.ukÂ
   for more information, and we will send you the Zoom link so you can 
 join us for the meeting\r\n---------------------------------\r\nFind o
 therÂ local Fabulous Women events hereÂ on Networking in Surrey...\n\n
 For more information visit https://networkinginsurrey.co.uk/events/fab
 ulous-networking-guildford-coffee-time-online-5
DTSTART;TZID=Europe/London:20211116T100000
DTEND;TZID=Europe/London:20211116T120000
CATEGORIES:lunchtime, online, petersfield, netwinning, fabulous_women
LOCATION:Online only
WEBSITE:
URL:
CONTACT:
ORGANIZER:John Edward
ATTACH;FMTTYPE="image/jpeg":https://storage.ning.com/topology/rest/1.0
 /file/get/8275875856?profile=original
ATTENDEE;ROLE=REQ-PARTICIPANT;PARTSTAT=ACCEPTED;RSVP=TRUE;CN="Keith Gr
 over, NiS Founder":https://networkinginsurrey.co.uk/profile/KeithGrove
 r
END:VEVENT
END:VCALENDAR
