BEGIN:VCALENDAR
PRODID:NingEventWidget-v1
VERSION:2.0
METHOD:PUBLISH
BEGIN:VTIMEZONE
TZID:Europe/London
X-LIC-LOCATION:Europe/London
BEGIN:DAYLIGHT
TZOFFSETFROM:+0000
TZOFFSETTO:+0100
TZNAME:BST
DTSTART:19700329T010000
RRULE:FREQ=YEARLY;BYMONTH=3;BYDAY=-1SU
END:DAYLIGHT
BEGIN:STANDARD
TZOFFSETFROM:+0100
TZOFFSETTO:+0000
TZNAME:GMT
DTSTART:19701025T020000
RRULE:FREQ=YEARLY;BYMONTH=10;BYDAY=-1SU
END:STANDARD
END:VTIMEZONE
BEGIN:VEVENT
UID:4626108:Event:539569
DTSTAMP:20260423T195939Z
SUMMARY:Fabulous Networking Fleet Coffee Time Live!
DESCRIPTION:Fabulous Networking Fleet Coffee Time Live at The Wyvern\r
 \n\r\nJoin Mandy Dineley for a morning of business networking with Fab
 ulous Networking's Fleet group.\r\n\r\nMandy Dineley is delighted to b
 e welcoming you back in person at our new venue the Wyvern, Church Coo
 kham.\r\nMandy’s meetings are always warm and welcoming. There’ll 
 be time\r\n\r\ninformal networking,\r\nyour one minute introductions\r
 \ndiscussion probably around Jill’s talk\r\n\r\nWe have a lovely new
  venue for you. There’s parking on site.\r\nThere is a £12 meeting 
 fee, payable on arrival, to cover venue costs and light refreshments.\
 r\nYou may have heard that we have ditched the one minute pitch. You 
 are asked to complete a short form when you book so we can share your 
 details with the group. \r\nYour speaker\r\nKara Stanford is an award
  winning marketing strategist and owner of KMS Marketing and the Marke
 ting Spaces.\r\nVisitors are welcome and may attend up to three events
  before making a decision about joining. We don’t operate any exclus
 ions. We believe that people buy people and that there is opportunity 
 in collaborating with our competitors. Did you know that we plant a tr
 ee for every attendee at one of our in person events?\r\n\r\n\r\n\r\n\
 r\n\r\nWe promise you a relaxed but professional meeting. Everyone is 
 welcome. We believe that people buy people and that there are collabor
 ative opportunities with our competitors so there are no professional 
 lock outs of Fabulous Networking.\r\nWe look forward to seeing you.\r\
 nCOST: £10 meeting fee including refreshments\r\nBOOKING: Please CL
 ICK HERE to book, and please email marketing@fabulousnetworking.co.u
 k  if you need more information\r\nMAP\r\n---------------------------
 ------\r\nFind other local Fabulous Networking events here on Networ
 king in Surrey...\r\n\r\n\r\n\r\n\n\nFor more information visit https:
 //networkinginsurrey.co.uk/events/fabulous-networking-fleet-coffee-tim
 e-live-14
DTSTART;TZID=Europe/London:20231011T100000
DTEND;TZID=Europe/London:20231011T120000
CATEGORIES:lunchtime, online, petersfield, netwinning, fabulous_women
LOCATION:The Wyvern GU52 8JY
WEBSITE:
URL:
CONTACT:
ORGANIZER:Mandy Dineley
ATTACH;FMTTYPE="image/jpeg":https://storage.ning.com/topology/rest/1.0
 /file/get/8248947256?profile=original
ATTENDEE;ROLE=REQ-PARTICIPANT;PARTSTAT=ACCEPTED;RSVP=TRUE;CN="Keith Gr
 over, NiS Founder":https://networkinginsurrey.co.uk/profile/KeithGrove
 r
END:VEVENT
END:VCALENDAR
