BEGIN:VCALENDAR
PRODID:NingEventWidget-v1
VERSION:2.0
METHOD:PUBLISH
BEGIN:VTIMEZONE
TZID:Europe/London
X-LIC-LOCATION:Europe/London
BEGIN:DAYLIGHT
TZOFFSETFROM:+0000
TZOFFSETTO:+0100
TZNAME:BST
DTSTART:19700329T010000
RRULE:FREQ=YEARLY;BYMONTH=3;BYDAY=-1SU
END:DAYLIGHT
BEGIN:STANDARD
TZOFFSETFROM:+0100
TZOFFSETTO:+0000
TZNAME:GMT
DTSTART:19701025T020000
RRULE:FREQ=YEARLY;BYMONTH=10;BYDAY=-1SU
END:STANDARD
END:VTIMEZONE
BEGIN:VEVENT
UID:4626108:Event:530294
DTSTAMP:20260419T213201Z
SUMMARY:Fabulous Networking Farnham Lunchtime Online
DESCRIPTION:Fabulous Networking Lunchtime Online\r\nAll our Networking
  meetings are now online and via Zoom.\r\nRunning a small business can
  be isolating never more so than in a world where we are confined to o
 ur homes.  It helps to meet with others who understand the challenges
  you face., even if that meeting has to be virtual.  Why not join us 
 for a morning of networking, learning and inspiration in an uplifting 
 environment? I’m Adam Buttery and I look forward to welcoming you.\
 r\nOur online meetings follow a similar agenda to our in person meetin
 gs. The Zoom call is set up to allow you to join a few minutes ahead o
 f the advertised time for some informal chat. We can't do a business c
 ard shuffle but if you type your details into the chat we'll share the
 m after the meeting.\r\nOur speaker is bookkeeper and administrator Cl
 aire Johnson.\r\nThe event is FREE to members. Visitors are welcome to
  attend three Fabulous Networking meetings without charge after which 
 you can either join us for £17 per month or pay an attendance fee of 
 £10 for each additional meeting. \r\nPlease contact Glenda Shawley o
 n the email below if you would like to attend so that we can send you 
 the Zoom link to join the meeting. This will go out shortly before the
  meeting, if it doesn't appear in your inbox please check your spam fo
 lder. \r\nCOST: FREE for Guests and FW members \r\nBOOKING: Pleas
 e CLICK HERE to book or email marketing@fabulousnetworking.co.uk  fo
 r more information, and we will send you the Zoom link so you can join
  us for the meeting\r\n\r\n\n\nFor more information visit https://netw
 orkinginsurrey.co.uk/events/fabulous-networking-farnham-lunchtime-onli
 ne-8
DTSTART;TZID=Europe/London:20211130T120000
DTEND;TZID=Europe/London:20211130T140000
CATEGORIES:morning, wimbledon, netwinning, fabulous_women
LOCATION:Online only
WEBSITE:https://fabulousnetworking.co.uk/
URL:https://fabulousnetworking.co.uk/
CONTACT:
ORGANIZER:Adam Buttery
ATTACH;FMTTYPE="image/jpeg":https://storage.ning.com/topology/rest/1.0
 /file/get/8198780061?profile=original
ATTENDEE;ROLE=REQ-PARTICIPANT;PARTSTAT=ACCEPTED;RSVP=TRUE;CN="Keith Gr
 over, NiS Founder":https://networkinginsurrey.co.uk/profile/KeithGrove
 r
END:VEVENT
END:VCALENDAR
