BEGIN:VCALENDAR
PRODID:NingEventWidget-v1
VERSION:2.0
METHOD:PUBLISH
BEGIN:VTIMEZONE
TZID:Europe/London
X-LIC-LOCATION:Europe/London
BEGIN:DAYLIGHT
TZOFFSETFROM:+0000
TZOFFSETTO:+0100
TZNAME:BST
DTSTART:19700329T010000
RRULE:FREQ=YEARLY;BYMONTH=3;BYDAY=-1SU
END:DAYLIGHT
BEGIN:STANDARD
TZOFFSETFROM:+0100
TZOFFSETTO:+0000
TZNAME:GMT
DTSTART:19701025T020000
RRULE:FREQ=YEARLY;BYMONTH=10;BYDAY=-1SU
END:STANDARD
END:VTIMEZONE
BEGIN:VEVENT
UID:4626108:Event:528385
DTSTAMP:20260420T073011Z
SUMMARY:Fabulous Networking Esher/Oxshott Coffee-Time Online
DESCRIPTION:Fabulous Networking Oxshott Coffee-Time Online\r\nAll our 
 Networking meetings are now online and via Zoom.\r\nI’m Glenda Shawl
 ey and I look forward to welcoming you.\r\nIs the isolation of home wo
 rking getting you down? Are you struggling to grow your business in th
 ese challenging times? Do you need some help to get your mojo back?\r\
 nThese are just some of the reasons why people attend Fabulous Network
 ing meetings. Whether you are just starting out or have been trading f
 or years there’s a place for you in our community.\r\nYou’ll have 
 the opportunity to promote your business in 60 seconds to everyone on 
 the call. You’ll make connections with other business owners and pro
 fessionals and be challenged to think by our speaker.\r\nOur agenda is
  flexible to meet the needs of the attendees so there may be some spee
 d networking, a business hotseat or some small group discussions.\r\nW
 e promise you a relaxed but professional meeting. Everyone is welcome.
  We believe that people buy people and that there are collaborative op
 portunities with our competitors so there are no professional lock out
 s of Fabulous Networking.\r\nVisitors may attend up to three meetings 
 free of charge after which become a member from £17 per month and get
  all our online events free.\r\nPlease book in via the link below if y
 ou would like to attend so that we can send you the Zoom link to join 
 the meeting. This will go out shortly before the meeting, so if it doe
 sn't appear in your inbox please check your spam folder.\r\nWe look fo
 rward to seeing you!\r\nCOST: FREE for Guests and FW members \r\nBO
 OKING: Please CLICK HERE to book, or email marketing@fabulousnetwork
 ing.co.uk  for more information, and we will send you the Zoom link s
 o you can join us for the meeting\r\n\n\nFor more information visit ht
 tps://networkinginsurrey.co.uk/events/fabulous-networking-esher-oxshot
 t-coffee-time-online-7
DTSTART;TZID=Europe/London:20210826T100000
DTEND;TZID=Europe/London:20210826T120000
CATEGORIES:morning, esher_oxshott, netwinning, fabulous_networking, on
 line
LOCATION:Online only
WEBSITE:https://fabulousnetworking.co.uk/
URL:https://fabulousnetworking.co.uk/
CONTACT:
ORGANIZER:Leonie Wright
ATTACH;FMTTYPE="image/jpeg":https://storage.ning.com/topology/rest/1.0
 /file/get/8198785482?profile=original
ATTENDEE;ROLE=REQ-PARTICIPANT;PARTSTAT=ACCEPTED;RSVP=TRUE;CN="Keith Gr
 over, NiS Founder":https://networkinginsurrey.co.uk/profile/KeithGrove
 r
END:VEVENT
END:VCALENDAR
