BEGIN:VCALENDAR
PRODID:NingEventWidget-v1
VERSION:2.0
METHOD:PUBLISH
BEGIN:VTIMEZONE
TZID:Europe/London
X-LIC-LOCATION:Europe/London
BEGIN:DAYLIGHT
TZOFFSETFROM:+0000
TZOFFSETTO:+0100
TZNAME:BST
DTSTART:19700329T010000
RRULE:FREQ=YEARLY;BYMONTH=3;BYDAY=-1SU
END:DAYLIGHT
BEGIN:STANDARD
TZOFFSETFROM:+0100
TZOFFSETTO:+0000
TZNAME:GMT
DTSTART:19701025T020000
RRULE:FREQ=YEARLY;BYMONTH=10;BYDAY=-1SU
END:STANDARD
END:VTIMEZONE
BEGIN:VEVENT
UID:4626108:Event:527639
DTSTAMP:20260425T151450Z
SUMMARY:Fabulous Networking Esher/Oxshott Coffee-Time Online
DESCRIPTION:Fabulous Networking Oxshott Coffee-Time Online\nAll our Ne
 tworking meetings are now online and via Zoom.\nI’m Leonie Wright an
 d I look forward to welcoming you.\nIs the isolation of home working g
 etting you down? Are you struggling to grow your business in these cha
 llenging times? Do you need some help to get your mojo back?\nThese ar
 e just some of the reasons why people attend Fabulous Networking meeti
 ngs. Whether you are just starting out or have been trading for years 
 there’s a place for you in our community.\nYou’ll have the opportu
 nity to promote your business in 60 seconds to everyone on the call. Y
 ou’ll make connections with other business owners and professionals 
 and be challenged to think by our speaker.\nOur speaker this month is 
 our M.D. Glenda Shawley who will be discussing ‘Guiding Principles f
 or Business’. \nOur agenda is flexible to meet the needs of the att
 endees so there may be some speed networking, a business hotseat or so
 me small group discussions.\nWe promise you a relaxed but professional
  meeting. Everyone is welcome. We believe that people buy people and t
 hat there are collaborative opportunities with our competitors so ther
 e are no professional lock outs of Fabulous Networking.\nVisitors may 
 attend up to three meetings free of charge after which become a member
  from £17 per month and get all our online events free.\nPlease book 
 in via the link below if you would like to attend so that we can send 
 you the Zoom link to join the meeting. This will go out shortly before
  the meeting, so if it doesn't appear in your inbox please check your 
 spam folder.\nWe look forward to seeing you!\nCOST: FREE for Guests 
 and FW members \nBOOKING: Please CLICK HERE to book, or email marke
 ting@fabulousnetworking.co.uk  for more information, and we will send
  you the Zoom link so you can join us for the meeting\n\n\nFor more in
 formation visit https://networkinginsurrey.co.uk/events/fabulous-netwo
 rking-esher-oxshott-coffee-time-online-6
DTSTART;TZID=Europe/London:20210722T100000
DTEND;TZID=Europe/London:20210722T120000
CATEGORIES:morning, esher_oxshott, netwinning, fabulous_networking, on
 line
LOCATION:Online only
WEBSITE:https://fabulousnetworking.co.uk/
URL:https://fabulousnetworking.co.uk/
CONTACT:
ORGANIZER;CN="Leonie Wright":https://networkinginsurrey.co.uk/profile/
 LeonieWright
ATTACH;FMTTYPE="image/jpeg":https://storage.ning.com/topology/rest/1.0
 /file/get/8198785482?profile=original
ATTENDEE;ROLE=REQ-PARTICIPANT;PARTSTAT=ACCEPTED;RSVP=TRUE;CN="Leonie W
 right":https://networkinginsurrey.co.uk/profile/LeonieWright
END:VEVENT
END:VCALENDAR
