BEGIN:VCALENDAR
PRODID:NingEventWidget-v1
VERSION:2.0
METHOD:PUBLISH
BEGIN:VTIMEZONE
TZID:Europe/London
X-LIC-LOCATION:Europe/London
BEGIN:DAYLIGHT
TZOFFSETFROM:+0000
TZOFFSETTO:+0100
TZNAME:BST
DTSTART:19700329T010000
RRULE:FREQ=YEARLY;BYMONTH=3;BYDAY=-1SU
END:DAYLIGHT
BEGIN:STANDARD
TZOFFSETFROM:+0100
TZOFFSETTO:+0000
TZNAME:GMT
DTSTART:19701025T020000
RRULE:FREQ=YEARLY;BYMONTH=10;BYDAY=-1SU
END:STANDARD
END:VTIMEZONE
BEGIN:VEVENT
UID:4626108:Event:543740
DTSTAMP:20260421T233915Z
SUMMARY:Fabulous Networking Coffee Time Online
DESCRIPTION:Fabulous Networking Coffee Time Online \r\n\r\nThis is a 
 well-established group which before the pandemic met in Winchester. \r
 \nOur host Felicity Dwyer has taken the decision to make it permanentl
 y online so, whilst many attendees are still based in Hampshire, you d
 on’t have to be to join us.\r\nAre you struggling to grow your busin
 ess in these challenging times? Do you need some help to get your mojo
  back?\r\nThese are just some of the reasons why people attend Fabulou
 s Networking meetings. Whether you are just starting out or have been 
 trading for years there’s a place for you in our community.\r\nYou m
 ay have heard that we have ditched the one minute pitch. You are aske
 d to complete a short form when you book so we can share your details 
 with the group. \r\nYour speaker\r\nACT Personal Development comprise
 s of Andrzej and his friend Mel.\r\nAndrzej is an ex-scientist , Mel a
 n ex-lawyer united by a passion to help people live out of their perso
 nal power. They’ve distilled a life time of personal development stu
 dy into the ACT course, and many simple to follow processes that help 
 unlock their clients potential. They coach, train and practice hypnoth
 erapy. When not working Andrzej’s passions are Salsa, he’s just ta
 king up canoeing and dreaming of doing the Camino de Santiago walk.\r\
 nYou’ll make connections with other business owners and professional
 s and be challenged to think by our speaker. Our agenda is flexible to
  meet the needs of the attendees so there may be some speed networking
 , a business hotseat or some small group discussions.\r\nWe promise yo
 u a relaxed but professional meeting. Everyone is welcome. We believe 
 that people buy people and that there are collaborative opportunities 
 with our competitors so there are no professional lock outs of Fabulou
 s Networking.\r\nVisitors may attend up to three meetings free of char
 ge after which become a member from £17 per month and get all our onl
 ine events free.\r\nBook your place and we’ll send you the link to t
 he Zoom call the night before the meeting.\r\nWe look forward to seein
 g you.\r\nCOST: FREE for new Guests and FN members \r\nBOOKING: Pl
 ease CLICK HERE to book, or email marketing@fabulousnetworking.co.uk 
  for more information, and we will send you the Zoom link so you can j
 oin us for the meeting\r\n---------------------------------\r\nFind ot
 her local Fabulous Networking events here on Networking in Surrey...
 \n\nFor more information visit https://networkinginsurrey.co.uk/events
 /fabulous-networking-coffee-time-online-961
DTSTART;TZID=Europe/London:20241010T100000
DTEND;TZID=Europe/London:20241010T120000
CATEGORIES:lunchtime, online, netwinning, fabulous_networking
LOCATION:Online only
WEBSITE:
URL:
CONTACT:
ORGANIZER:Felicity Dwyer
ATTACH;FMTTYPE="image/jpeg":https://storage.ning.com/topology/rest/1.0
 /file/get/8248954882?profile=original
ATTENDEE;ROLE=REQ-PARTICIPANT;PARTSTAT=ACCEPTED;RSVP=TRUE;CN="Keith Gr
 over, NiS Founder":https://networkinginsurrey.co.uk/profile/KeithGrove
 r
END:VEVENT
END:VCALENDAR
