BEGIN:VCALENDAR
PRODID:NingEventWidget-v1
VERSION:2.0
METHOD:PUBLISH
BEGIN:VTIMEZONE
TZID:Europe/London
X-LIC-LOCATION:Europe/London
BEGIN:DAYLIGHT
TZOFFSETFROM:+0000
TZOFFSETTO:+0100
TZNAME:BST
DTSTART:19700329T010000
RRULE:FREQ=YEARLY;BYMONTH=3;BYDAY=-1SU
END:DAYLIGHT
BEGIN:STANDARD
TZOFFSETFROM:+0100
TZOFFSETTO:+0000
TZNAME:GMT
DTSTART:19701025T020000
RRULE:FREQ=YEARLY;BYMONTH=10;BYDAY=-1SU
END:STANDARD
END:VTIMEZONE
BEGIN:VEVENT
UID:4626108:Event:537986
DTSTAMP:20260421T032308Z
SUMMARY:Fabulous Networking Coffee-time LIVE! Farnham
DESCRIPTION:Fabulous Networking Coffee-time LIVE! at Adam's Holistic H
 ealth\r\n\r\nWelcome to our Farnham business networking meeting taking
  place in person at UMG Cafe by Hones Business Park. We’ve changed t
 he day of our meetings from this month to avoid clashing with another 
 local group. We hope this works for you.\r\n\r\nYour host is the ever 
 supportive Adam Buttery.\r\nA typical Farnham agenda includes…\r\n\r
 \nInformal networking\r\nGet to know you activities\r\nA speaker who t
 his month is… our MD Glenda Shawley who will be speaking about ‘So
 wing the seeds for growth’. She’ll use growing herbs from seed as 
 a metaphor for growing an effective network.\r\nA business development
  session\r\n\r\nYour meeting fee of £10 includes tea or coffee and li
 ght refreshments.\r\nThis is a warm and friendly meeting in a really s
 upportive atmosphere. If you are at all worried about walking into a r
 oom of strangers, then please contact glenda@fabulousnetworking.co.uk 
 and I’ll put you in touch with Adam who will make it as easy as poss
 ible for you.\r\nOur speaker this month is Glenda Shawley who took ove
 r Fabulous Networking in January 2019 when the previous owner had to l
 et it go. As an experienced marketer she has always seen networking as
  an important part of any small business owner’s marketing tool box.
  \r\nYou may have heard that we have ditched the one minute pitch. Y
 ou are asked to complete a short form when you book so we can share yo
 ur details with the group. \r\nVisitors may attend up to three meetin
 gs free of charge after which you can become a member for £17 per mon
 th. \r\nCOST: £10 meeting fee including refreshments (reduced from
  our usual £12 this month!)\r\nBOOKING: Please CLICK HERE to book or
  email marketing@fabulousnetworking.co.uk  for more information\r\nM
 AP\r\nWe’ll be meeting at UMG Cafe/Coffee Shop on Hones Business Par
 k right next to Farnham Station making it super convenient if you want
  to come by train. There’s no parking on site but rarely any problem
  parking on Waverley Lane, Broomleaf Rd. Tilford Rd. (A287) and side r
 oads.\r\n\n\nFor more information visit https://networkinginsurrey.co.
 uk/events/fabulous-networking-coffee-time-live-farnham-3
DTSTART;TZID=Europe/London:20230427T093000
DTEND;TZID=Europe/London:20230427T110000
CATEGORIES:morning, farnham, netwinning, fabulous_networking
LOCATION:UMG Cafe/Coffee Shop GU9 8BB
WEBSITE:https://fabulousnetworking.co.uk/
URL:https://fabulousnetworking.co.uk/
CONTACT:
ORGANIZER:Adam Buttery
ATTACH;FMTTYPE="image/jpeg":https://storage.ning.com/topology/rest/1.0
 /file/get/10929259085?profile=original
ATTENDEE;ROLE=REQ-PARTICIPANT;PARTSTAT=ACCEPTED;RSVP=TRUE;CN="Keith Gr
 over, NiS Founder":https://networkinginsurrey.co.uk/profile/KeithGrove
 r
END:VEVENT
END:VCALENDAR
