BEGIN:VCALENDAR
PRODID:NingEventWidget-v1
VERSION:2.0
METHOD:PUBLISH
BEGIN:VTIMEZONE
TZID:Europe/London
X-LIC-LOCATION:Europe/London
BEGIN:DAYLIGHT
TZOFFSETFROM:+0000
TZOFFSETTO:+0100
TZNAME:BST
DTSTART:19700329T010000
RRULE:FREQ=YEARLY;BYMONTH=3;BYDAY=-1SU
END:DAYLIGHT
BEGIN:STANDARD
TZOFFSETFROM:+0100
TZOFFSETTO:+0000
TZNAME:GMT
DTSTART:19701025T020000
RRULE:FREQ=YEARLY;BYMONTH=10;BYDAY=-1SU
END:STANDARD
END:VTIMEZONE
BEGIN:VEVENT
UID:4626108:Event:537309
DTSTAMP:20260421T085900Z
SUMMARY:Fabulous Networking Coffee-time LIVE! Farnham
DESCRIPTION:Fabulous Networking Coffee-time LIVE! at Adam's Holistic H
 ealth\r\n\r\nRunning a small business can be isolating never more so t
 han in a world where we are confined to our homes.  It helps to meet 
 with others who understand the challenges you face..  Why not join us
  for a morning of networking, learning and inspiration in an uplifting
  environment? I’m Adam Buttery and I look forward to welcoming you.
 \r\nOur speaker this month is Kara Stanford from The Marketing Spaces.
  Kara’s talk is “The Buyers’ Journey – have you got what they
  need?” \r\nYou may have heard that we have ditched the one minute 
 pitch. You are asked to complete a short form when you book so we can
  share your details with the group. \r\nAlexandra House is a Queen An
 ne barn which has been updated to provide modern business facilities. 
 For smaller meetings we will meet in Adam’s clinic at number 7, but 
 we have the option to use a meeting room when numbers are higher. \r\
 nVisitors may attend up to three meetings free of charge after which y
 ou can become a member for £17 per month. \r\nCOST: £10 meeting f
 ee including refreshments (reduced from our usual £12 this month!)\r\
 nBOOKING: Please CLICK HERE to book or email marketing@fabulousnetwo
 rking.co.uk  for more information\r\nMAP\r\n\r\n\n\nFor more informat
 ion visit https://networkinginsurrey.co.uk/events/fabulous-networking-
 coffee-time-live-farnham-2
DTSTART;TZID=Europe/London:20230328T100000
DTEND;TZID=Europe/London:20230328T120000
CATEGORIES:morning, farnham, netwinning, fabulous_women
LOCATION:Adam's Holistic Health
WEBSITE:https://fabulousnetworking.co.uk/
URL:https://fabulousnetworking.co.uk/
CONTACT:
ORGANIZER:Adam Buttery
ATTACH;FMTTYPE="image/jpeg":https://storage.ning.com/topology/rest/1.0
 /file/get/10929259085?profile=original
ATTENDEE;ROLE=REQ-PARTICIPANT;PARTSTAT=ACCEPTED;RSVP=TRUE;CN="Keith Gr
 over, NiS Founder":https://networkinginsurrey.co.uk/profile/KeithGrove
 r
END:VEVENT
END:VCALENDAR
